BEGIN:VCALENDAR
VERSION:2.0
PRODID:-//The Garden Club of Bermuda - ECPv6.15.18//NONSGML v1.0//EN
CALSCALE:GREGORIAN
METHOD:PUBLISH
X-WR-CALNAME:The Garden Club of Bermuda
X-ORIGINAL-URL:https://gardenclubbermuda.org
X-WR-CALDESC:Events for The Garden Club of Bermuda
REFRESH-INTERVAL;VALUE=DURATION:PT1H
X-Robots-Tag:noindex
X-PUBLISHED-TTL:PT1H
BEGIN:VTIMEZONE
TZID:Atlantic/Bermuda
BEGIN:DAYLIGHT
TZOFFSETFROM:-0400
TZOFFSETTO:-0300
TZNAME:ADT
DTSTART:20190310T060000
END:DAYLIGHT
BEGIN:STANDARD
TZOFFSETFROM:-0300
TZOFFSETTO:-0400
TZNAME:AST
DTSTART:20191103T050000
END:STANDARD
BEGIN:DAYLIGHT
TZOFFSETFROM:-0400
TZOFFSETTO:-0300
TZNAME:ADT
DTSTART:20200308T060000
END:DAYLIGHT
BEGIN:STANDARD
TZOFFSETFROM:-0300
TZOFFSETTO:-0400
TZNAME:AST
DTSTART:20201101T050000
END:STANDARD
BEGIN:DAYLIGHT
TZOFFSETFROM:-0400
TZOFFSETTO:-0300
TZNAME:ADT
DTSTART:20210314T060000
END:DAYLIGHT
BEGIN:STANDARD
TZOFFSETFROM:-0300
TZOFFSETTO:-0400
TZNAME:AST
DTSTART:20211107T050000
END:STANDARD
END:VTIMEZONE
BEGIN:VEVENT
DTSTART;TZID=Atlantic/Bermuda:20200901T100000
DTEND;TZID=Atlantic/Bermuda:20200901T120000
DTSTAMP:20260424T234331
CREATED:20200929T154156Z
LAST-MODIFIED:20200929T154156Z
UID:4247-1598954400-1598961600@gardenclubbermuda.org
SUMMARY:Floral Art Crafts Workshop
DESCRIPTION:Social Distancing and Masks required
URL:https://gardenclubbermuda.org/event/floral-art-crafts-workshop-5/
LOCATION:TBA\, Bermuda
END:VEVENT
BEGIN:VEVENT
DTSTART;TZID=Atlantic/Bermuda:20200908T100000
DTEND;TZID=Atlantic/Bermuda:20200908T120000
DTSTAMP:20260424T234331
CREATED:20200929T154252Z
LAST-MODIFIED:20200929T154252Z
UID:4249-1599559200-1599566400@gardenclubbermuda.org
SUMMARY:Floral Art Crafts Workshop
DESCRIPTION:Social Distancing and Masks required
URL:https://gardenclubbermuda.org/event/floral-art-crafts-workshop-6/
LOCATION:TBA\, Bermuda
END:VEVENT
BEGIN:VEVENT
DTSTART;TZID=Atlantic/Bermuda:20200929T130000
DTEND;TZID=Atlantic/Bermuda:20200929T150000
DTSTAMP:20260424T234331
CREATED:20200928T143159Z
LAST-MODIFIED:20200928T143159Z
UID:4150-1601384400-1601391600@gardenclubbermuda.org
SUMMARY:Floral Arts Craft Workshop
DESCRIPTION:Workshop will be held every Tuesday until end November.  Members welcomed to this fun event.  Please sign up using link given to members via email.  Limited numbers.  Social distancing and masks enforced.
URL:https://gardenclubbermuda.org/event/floral-arts-craft-workshop/
LOCATION:TBA\, Bermuda
END:VEVENT
BEGIN:VEVENT
DTSTART;TZID=Atlantic/Bermuda:20200930T093000
DTEND;TZID=Atlantic/Bermuda:20200930T113000
DTSTAMP:20260424T234331
CREATED:20200928T174632Z
LAST-MODIFIED:20200928T174632Z
UID:4191-1601458200-1601465400@gardenclubbermuda.org
SUMMARY:Executive Meeting
DESCRIPTION:ZOOM meeting
URL:https://gardenclubbermuda.org/event/executive-meeting-19/
LOCATION:TBA\, Bermuda
END:VEVENT
END:VCALENDAR