BEGIN:VCALENDAR
VERSION:2.0
PRODID:-//The Garden Club of Bermuda - ECPv6.15.18//NONSGML v1.0//EN
CALSCALE:GREGORIAN
METHOD:PUBLISH
X-WR-CALNAME:The Garden Club of Bermuda
X-ORIGINAL-URL:https://gardenclubbermuda.org
X-WR-CALDESC:Events for The Garden Club of Bermuda
REFRESH-INTERVAL;VALUE=DURATION:PT1H
X-Robots-Tag:noindex
X-PUBLISHED-TTL:PT1H
BEGIN:VTIMEZONE
TZID:UTC
BEGIN:STANDARD
TZOFFSETFROM:+0000
TZOFFSETTO:+0000
TZNAME:UTC
DTSTART:20180101T000000
END:STANDARD
END:VTIMEZONE
BEGIN:VEVENT
DTSTART;TZID=UTC:20191204T093000
DTEND;TZID=UTC:20191204T113000
DTSTAMP:20260424T175248
CREATED:20190811T040720Z
LAST-MODIFIED:20190811T040720Z
UID:2099-1575451800-1575459000@gardenclubbermuda.org
SUMMARY:Executive Meeting
DESCRIPTION:Executive Meeting
URL:https://gardenclubbermuda.org/event/executive-meeting-12/
LOCATION:TBA\, Bermuda
END:VEVENT
BEGIN:VEVENT
DTSTART;TZID=UTC:20191207T100000
DTEND;TZID=UTC:20191207T120000
DTSTAMP:20260424T175248
CREATED:20190811T041735Z
LAST-MODIFIED:20190811T041735Z
UID:2115-1575712800-1575720000@gardenclubbermuda.org
SUMMARY:Floral Art Workshop
DESCRIPTION:Floral Art Workshop
URL:https://gardenclubbermuda.org/event/floral-art-workshop-11/
LOCATION:TBA\, Bermuda
END:VEVENT
BEGIN:VEVENT
DTSTART;TZID=UTC:20191213T100000
DTEND;TZID=UTC:20191213T120000
DTSTAMP:20260424T175248
CREATED:20190807T043744Z
LAST-MODIFIED:20190807T043744Z
UID:2080-1576231200-1576238400@gardenclubbermuda.org
SUMMARY:General Meeting - Christmas theme!
DESCRIPTION:Garden Club General Meeting – all members and their guests welcome
URL:https://gardenclubbermuda.org/event/general-meeting-18/
LOCATION:TBA\, Bermuda
END:VEVENT
BEGIN:VEVENT
DTSTART;TZID=UTC:20191217T083000
DTEND;TZID=UTC:20191217T130000
DTSTAMP:20260424T175248
CREATED:20191027T051031Z
LAST-MODIFIED:20191027T051031Z
UID:2224-1576571400-1576587600@gardenclubbermuda.org
SUMMARY:Christmas Wreath Workshop
DESCRIPTION:Our annual Christmas wreath workshop – come along and enjoy the fun!
URL:https://gardenclubbermuda.org/event/christmas-wreath-workshop/
LOCATION:TBA\, Bermuda
END:VEVENT
END:VCALENDAR