BEGIN:VCALENDAR
VERSION:2.0
PRODID:-//The Garden Club of Bermuda - ECPv6.15.18//NONSGML v1.0//EN
CALSCALE:GREGORIAN
METHOD:PUBLISH
X-WR-CALNAME:The Garden Club of Bermuda
X-ORIGINAL-URL:https://gardenclubbermuda.org
X-WR-CALDESC:Events for The Garden Club of Bermuda
REFRESH-INTERVAL;VALUE=DURATION:PT1H
X-Robots-Tag:noindex
X-PUBLISHED-TTL:PT1H
BEGIN:VTIMEZONE
TZID:UTC
BEGIN:STANDARD
TZOFFSETFROM:+0000
TZOFFSETTO:+0000
TZNAME:UTC
DTSTART:20160101T000000
END:STANDARD
END:VTIMEZONE
BEGIN:VEVENT
DTSTART;TZID=UTC:20180116T140000
DTEND;TZID=UTC:20180116T160000
DTSTAMP:20260420T132901
CREATED:20180110T200512Z
LAST-MODIFIED:20180110T200512Z
UID:1424-1516111200-1516118400@gardenclubbermuda.org
SUMMARY:Planting Workshop
DESCRIPTION:Planting workshops taking place at Felicite Davidson’s slathouse\, Tuesdays commencing Jan 16th\, 2-4pm in preparation for a late April 2018 Plant Sale.  For directions to Felicite’s house please call Felicite.
URL:https://gardenclubbermuda.org/event/planting-workshop/
END:VEVENT
BEGIN:VEVENT
DTSTART;TZID=UTC:20180112T100000
DTEND;TZID=UTC:20180112T120000
DTSTAMP:20260420T132901
CREATED:20170924T031720Z
LAST-MODIFIED:20170924T031720Z
UID:1189-1515751200-1515758400@gardenclubbermuda.org
SUMMARY:General Meeting
DESCRIPTION:Speakers: Drew Pettit and Claire Jessey on Invasives\nKBB presentation by Ann Hyde\nFloral Art & Photography Theme “City Life”
URL:https://gardenclubbermuda.org/event/general-meeting-4/
END:VEVENT
BEGIN:VEVENT
DTSTART;TZID=UTC:20180111T150000
DTEND;TZID=UTC:20180111T170000
DTSTAMP:20260420T132901
CREATED:20170924T031526Z
LAST-MODIFIED:20170924T031526Z
UID:1185-1515682800-1515690000@gardenclubbermuda.org
SUMMARY:Little Seedlings
DESCRIPTION:“Garden Art” Venue: Botanical Gardens Kitchen Garden.  We’ll make some garden art and some beautiful food from fruits and vegetables for our snack! \nEducation & Conservation
URL:https://gardenclubbermuda.org/event/little-seedlings-4/
LOCATION:Bermuda Botanical Gardens\, Point Finger Road\, Paget\, Bermuda
END:VEVENT
BEGIN:VEVENT
DTSTART;TZID=UTC:20180111T130000
DTEND;TZID=UTC:20180111T153000
DTSTAMP:20260420T132902
CREATED:20170925T212153Z
LAST-MODIFIED:20170925T212153Z
UID:1244-1515675600-1515684600@gardenclubbermuda.org
SUMMARY:Submit photo HH 1pm - 3.30pm
DESCRIPTION:
URL:https://gardenclubbermuda.org/event/submit-photo-hh-1pm-3-30pm-3/
END:VEVENT
BEGIN:VEVENT
DTSTART;TZID=UTC:20180107T233000
DTEND;TZID=UTC:20180107T233000
DTSTAMP:20260420T132902
CREATED:20170925T213144Z
LAST-MODIFIED:20170925T213144Z
UID:1257-1515367800-1515367800@gardenclubbermuda.org
SUMMARY:Photography deadline to email photo
DESCRIPTION:
URL:https://gardenclubbermuda.org/event/photography-deadline-to-email-photo-3/
END:VEVENT
BEGIN:VEVENT
DTSTART;TZID=UTC:20180106T100000
DTEND;TZID=UTC:20180106T120000
DTSTAMP:20260420T132902
CREATED:20170924T031631Z
LAST-MODIFIED:20170924T031631Z
UID:1187-1515232800-1515240000@gardenclubbermuda.org
SUMMARY:Floral Art Workshop
DESCRIPTION:“City Life”
URL:https://gardenclubbermuda.org/event/floral-art-workshop-5/
LOCATION:TBA\, Bermuda
END:VEVENT
BEGIN:VEVENT
DTSTART;TZID=UTC:20171215T100000
DTEND;TZID=UTC:20171215T120000
DTSTAMP:20260420T132902
CREATED:20171005T035336Z
LAST-MODIFIED:20171005T035336Z
UID:1334-1513332000-1513339200@gardenclubbermuda.org
SUMMARY:Horticultural Division: Christmas arrangements workshop
DESCRIPTION:Christmas arrangements hands on workshop led by Susan Conyers
URL:https://gardenclubbermuda.org/event/christmas-arrangements-workshop/
LOCATION:TBA\, Bermuda
END:VEVENT
BEGIN:VEVENT
DTSTART;TZID=UTC:20171212T120000
DTEND;TZID=UTC:20171212T140000
DTSTAMP:20260420T132902
CREATED:20170924T031425Z
LAST-MODIFIED:20170924T031425Z
UID:1183-1513080000-1513087200@gardenclubbermuda.org
SUMMARY:Christmas Lunch
DESCRIPTION:Coral Beach Club $50.00 per person
URL:https://gardenclubbermuda.org/event/christmas-lunch/
LOCATION:Coral Beach and Tennis Club\, 34 South Road\, Paget\, PG04\, Bermuda
END:VEVENT
BEGIN:VEVENT
DTSTART;TZID=UTC:20171208T100000
DTEND;TZID=UTC:20171208T120000
DTSTAMP:20260420T132902
CREATED:20170924T031255Z
LAST-MODIFIED:20170924T031255Z
UID:1181-1512727200-1512734400@gardenclubbermuda.org
SUMMARY:General Meeting
DESCRIPTION:Holiday Magic: Christmas floral demonstration by Marguerite Clark\, DEMCO/raffle/Christmas treats!\nFloral Art/Photography theme: “Holiday Magic”
URL:https://gardenclubbermuda.org/event/general-meeting-3/
LOCATION:TBA\, Bermuda
END:VEVENT
BEGIN:VEVENT
DTSTART;TZID=UTC:20171207T150000
DTEND;TZID=UTC:20171207T170000
DTSTAMP:20260420T132902
CREATED:20170924T031151Z
LAST-MODIFIED:20170924T031151Z
UID:1179-1512658800-1512666000@gardenclubbermuda.org
SUMMARY:Little Seedlings
DESCRIPTION:“Bermuda Trees” – Venue: Government House.  We’ll meet at Government House\,\, go on a famous tree scavenger hunt\, make tree art\, and have a Christmas Tree Tea! \nEducation & Conservation
URL:https://gardenclubbermuda.org/event/little-seedlings-3/
LOCATION:Government House\, Bermuda\, Langton Hill\, Pembroke\, Bermuda
END:VEVENT
BEGIN:VEVENT
DTSTART;TZID=UTC:20171207T130000
DTEND;TZID=UTC:20171207T153000
DTSTAMP:20260420T132902
CREATED:20170925T212113Z
LAST-MODIFIED:20170925T212113Z
UID:1242-1512651600-1512660600@gardenclubbermuda.org
SUMMARY:Submit photo HH 1pm - 3.30pm
DESCRIPTION:
URL:https://gardenclubbermuda.org/event/submit-photo-hh-1pm-3-30pm-2/
END:VEVENT
BEGIN:VEVENT
DTSTART;TZID=UTC:20171203T233000
DTEND;TZID=UTC:20171203T233000
DTSTAMP:20260420T132902
CREATED:20170925T213059Z
LAST-MODIFIED:20170925T213059Z
UID:1255-1512343800-1512343800@gardenclubbermuda.org
SUMMARY:Photography deadline to email photo
DESCRIPTION:
URL:https://gardenclubbermuda.org/event/photography-deadline-to-email-photo-2/
END:VEVENT
BEGIN:VEVENT
DTSTART;TZID=UTC:20171202T100000
DTEND;TZID=UTC:20171202T120000
DTSTAMP:20260420T132902
CREATED:20170924T030735Z
LAST-MODIFIED:20170924T030735Z
UID:1177-1512208800-1512216000@gardenclubbermuda.org
SUMMARY:Floral Art Workshop
DESCRIPTION:“Holiday Magic”
URL:https://gardenclubbermuda.org/event/floral-art-workshop-4/
END:VEVENT
BEGIN:VEVENT
DTSTART;TZID=UTC:20171124T100000
DTEND;TZID=UTC:20171124T120000
DTSTAMP:20260420T132902
CREATED:20171005T034525Z
LAST-MODIFIED:20171005T034525Z
UID:1330-1511517600-1511524800@gardenclubbermuda.org
SUMMARY:Horticultural Division: Planting and early care of vegetables
DESCRIPTION:Planting and early care of vegetables workshop for members given by Eddie Cattell\,  commencing at 10am on Grape Bay Road\, Paget.
URL:https://gardenclubbermuda.org/event/horticultural-division-planting-and-early-care-of-vegetables/
LOCATION:17 Grape Bay Drive\, 17 Grape Bay Drive\, Paget\, PG 06\, Bermuda
END:VEVENT
BEGIN:VEVENT
DTSTART;TZID=UTC:20171123T100000
DTEND;TZID=UTC:20171123T120000
DTSTAMP:20260420T132902
CREATED:20171011T040736Z
LAST-MODIFIED:20171011T040736Z
UID:1348-1511431200-1511438400@gardenclubbermuda.org
SUMMARY:RAIN DATE for Admiralty Park Walk and Talk
DESCRIPTION:
URL:https://gardenclubbermuda.org/event/rain-date-for-admiralty-park-walk-and-talk/
END:VEVENT
BEGIN:VEVENT
DTSTART;TZID=UTC:20171121T100000
DTEND;TZID=UTC:20171121T120000
DTSTAMP:20260420T132902
CREATED:20171011T040515Z
LAST-MODIFIED:20171011T040515Z
UID:1345-1511258400-1511265600@gardenclubbermuda.org
SUMMARY:Admiralty Park Walk & Talk
DESCRIPTION:Education & Conservation: Admiralty Park Walk & Talk – meet at Admiralty Park car park at 10am.  Sturdy shoes required.  Please bring a flashlight.  Rain date: November 23rd. It is proposed that a minimum of $10 per person be donated to the National Trust at the time of sign up for the event.
URL:https://gardenclubbermuda.org/event/admiralty-park-walk-talk/
LOCATION:Admiralty House\, 68 Spanish Point Road\, Pembroke\, Bermuda
END:VEVENT
BEGIN:VEVENT
DTSTART;TZID=UTC:20171110T100000
DTEND;TZID=UTC:20171110T120000
DTSTAMP:20260420T132902
CREATED:20170823T181526Z
LAST-MODIFIED:20170823T181526Z
UID:1141-1510308000-1510315200@gardenclubbermuda.org
SUMMARY:General Meeting
DESCRIPTION:Speaker: Frances Eddy “Vegetable gardening from where you are”
URL:https://gardenclubbermuda.org/event/general-meeting-2/
LOCATION:TBA\, Bermuda
CATEGORIES:Meeting
END:VEVENT
BEGIN:VEVENT
DTSTART;TZID=UTC:20171109T130000
DTEND;TZID=UTC:20171109T153000
DTSTAMP:20260420T132902
CREATED:20170925T212002Z
LAST-MODIFIED:20170925T212002Z
UID:1240-1510232400-1510241400@gardenclubbermuda.org
SUMMARY:Submit photo HH 1pm - 3.30pm
DESCRIPTION:
URL:https://gardenclubbermuda.org/event/submit-photo-hh-1pm-3-30pm/
END:VEVENT
BEGIN:VEVENT
DTSTART;TZID=UTC:20171105T233000
DTEND;TZID=UTC:20171105T233000
DTSTAMP:20260420T132902
CREATED:20170925T213720Z
LAST-MODIFIED:20170925T213720Z
UID:1259-1509924600-1509924600@gardenclubbermuda.org
SUMMARY:Photography deadline to email photo
DESCRIPTION:
URL:https://gardenclubbermuda.org/event/photography-deadline-to-email-photo-4/
END:VEVENT
BEGIN:VEVENT
DTSTART;TZID=UTC:20171104T100000
DTEND;TZID=UTC:20171104T120000
DTSTAMP:20260420T132902
CREATED:20170924T030630Z
LAST-MODIFIED:20170924T030630Z
UID:1175-1509789600-1509796800@gardenclubbermuda.org
SUMMARY:Floral Art Workshop
DESCRIPTION:“Artistic Expression”
URL:https://gardenclubbermuda.org/event/floral-art-workshop-3/
LOCATION:TBA\, Bermuda
END:VEVENT
BEGIN:VEVENT
DTSTART;TZID=UTC:20171102T150000
DTEND;TZID=UTC:20171102T170000
DTSTAMP:20260420T132902
CREATED:20170924T030514Z
LAST-MODIFIED:20170924T030514Z
UID:1173-1509634800-1509642000@gardenclubbermuda.org
SUMMARY:Little Seedlings
DESCRIPTION:“How to Grow a Pizza” – Botanical Gardens Kitchen Garden.  Many steps and plants go into making a pizza.  Come and learn more\, and help plant a pizza garden! – Education & Conservation
URL:https://gardenclubbermuda.org/event/little-seedlings-2/
LOCATION:Bermuda Botanical Gardens\, Point Finger Road\, Paget\, Bermuda
END:VEVENT
BEGIN:VEVENT
DTSTART;TZID=UTC:20171020T100000
DTEND;TZID=UTC:20171020T120000
DTSTAMP:20260420T132902
CREATED:20170924T030343Z
LAST-MODIFIED:20170924T030343Z
UID:1171-1508493600-1508500800@gardenclubbermuda.org
SUMMARY:Horticultural Workshop
DESCRIPTION:The Horticultural Division will present a workshop on how to exhibit on the Flower and Foliage bench\, Vegetable and Herb bench\, exhibiting roses and what judges look for when judging exhibits.  With Sylvia Outerbridge\, Susan Conyers\, Sharlene Joell\, Felicity Holmes and Betsy Mowbray.
URL:https://gardenclubbermuda.org/event/flower-foliage-workshop/
LOCATION:TBA\, Bermuda
END:VEVENT
BEGIN:VEVENT
DTSTART;TZID=UTC:20171013T100000
DTEND;TZID=UTC:20171013T120000
DTSTAMP:20260420T132902
CREATED:20170823T181351Z
LAST-MODIFIED:20170823T181351Z
UID:1136-1507888800-1507896000@gardenclubbermuda.org
SUMMARY:General Meeting
DESCRIPTION:Speakers: Susan Conyers & Debbie Burville on WAFA and recreating their 2017 WAFA design \nFloral Art theme:  “Sculpted by Nature” \nPhotography theme:  “Sculpted by Nature”
URL:https://gardenclubbermuda.org/event/general-meeting/
LOCATION:TBA\, Bermuda
CATEGORIES:Meeting
END:VEVENT
BEGIN:VEVENT
DTSTART;TZID=UTC:20171012T150000
DTEND;TZID=UTC:20171012T170000
DTSTAMP:20260420T132902
CREATED:20170924T025749Z
LAST-MODIFIED:20170924T025749Z
UID:1168-1507820400-1507827600@gardenclubbermuda.org
SUMMARY:Little Seedlings
DESCRIPTION:“Gardener Boot Camp” Venue: Botanical Gardens Kitchen Garden \n“Let’s get ready to plant and take care of our new gardens!  Boots encouraged!”- Education & Conservation
URL:https://gardenclubbermuda.org/event/little-seedlings/
LOCATION:Bermuda Botanical Gardens\, Point Finger Road\, Paget\, Bermuda
END:VEVENT
BEGIN:VEVENT
DTSTART;TZID=UTC:20171012T130000
DTEND;TZID=UTC:20171012T153000
DTSTAMP:20260420T132902
CREATED:20170925T211445Z
LAST-MODIFIED:20170925T211445Z
UID:1236-1507813200-1507822200@gardenclubbermuda.org
SUMMARY:Submit photo HH 1pm - 3.30pm
DESCRIPTION:
URL:https://gardenclubbermuda.org/event/submit-photo-between-1pm-and-3-30pm/
END:VEVENT
BEGIN:VEVENT
DTSTART;TZID=UTC:20171008T220000
DTEND;TZID=UTC:20171008T220000
DTSTAMP:20260420T132902
CREATED:20170923T175406Z
LAST-MODIFIED:20170923T175406Z
UID:1164-1507500000-1507500000@gardenclubbermuda.org
SUMMARY:Photography deadline to email photo
DESCRIPTION:Theme for this month’s photography competition is “Sculpted by Nature”  Email photo to photogardenclubbermuda@gmail.com
URL:https://gardenclubbermuda.org/event/photography-deadline-to-email-photo/
LOCATION:TBA\, Bermuda
END:VEVENT
BEGIN:VEVENT
DTSTART;TZID=UTC:20171007T100000
DTEND;TZID=UTC:20171007T120000
DTSTAMP:20260420T132902
CREATED:20170823T181242Z
LAST-MODIFIED:20170823T181242Z
UID:1134-1507370400-1507377600@gardenclubbermuda.org
SUMMARY:Floral Art Workshop
DESCRIPTION:“Sculpted By Nature”
URL:https://gardenclubbermuda.org/event/floral-art-workshop/
LOCATION:TBA\, Bermuda
CATEGORIES:Workshop
END:VEVENT
BEGIN:VEVENT
DTSTART;TZID=UTC:20171004T093000
DTEND;TZID=UTC:20171004T120000
DTSTAMP:20260420T132902
CREATED:20170823T181151Z
LAST-MODIFIED:20170823T181151Z
UID:1132-1507109400-1507118400@gardenclubbermuda.org
SUMMARY:Executive Meeting
DESCRIPTION:
URL:https://gardenclubbermuda.org/event/executive-meeting/
LOCATION:TBA\, Bermuda
CATEGORIES:Meeting
END:VEVENT
BEGIN:VEVENT
DTSTART;TZID=UTC:20171002T093000
DTEND;TZID=UTC:20171002T120000
DTSTAMP:20260420T132902
CREATED:20170925T025228Z
LAST-MODIFIED:20170925T025228Z
UID:1221-1506936600-1506945600@gardenclubbermuda.org
SUMMARY:Horticultural Hall cleaning
DESCRIPTION:Volunteers welcomed
URL:https://gardenclubbermuda.org/event/horticultural-hall-cleaning/
LOCATION:TBA\, Bermuda
END:VEVENT
BEGIN:VEVENT
DTSTART;TZID=UTC:20170922T093000
DTEND;TZID=UTC:20170922T120000
DTSTAMP:20260420T132902
CREATED:20170823T175954Z
LAST-MODIFIED:20170823T175954Z
UID:1128-1506072600-1506081600@gardenclubbermuda.org
SUMMARY:Joint Executive Meeting
DESCRIPTION:
URL:https://gardenclubbermuda.org/event/joint-executive-meeting/
LOCATION:TBA\, Bermuda
CATEGORIES:Meeting
END:VEVENT
END:VCALENDAR