BEGIN:VCALENDAR
VERSION:2.0
PRODID:-//The Garden Club of Bermuda - ECPv6.15.18//NONSGML v1.0//EN
CALSCALE:GREGORIAN
METHOD:PUBLISH
X-WR-CALNAME:The Garden Club of Bermuda
X-ORIGINAL-URL:https://gardenclubbermuda.org
X-WR-CALDESC:Events for The Garden Club of Bermuda
REFRESH-INTERVAL;VALUE=DURATION:PT1H
X-Robots-Tag:noindex
X-PUBLISHED-TTL:PT1H
BEGIN:VTIMEZONE
TZID:UTC
BEGIN:STANDARD
TZOFFSETFROM:+0000
TZOFFSETTO:+0000
TZNAME:UTC
DTSTART:20170101T000000
END:STANDARD
END:VTIMEZONE
BEGIN:VEVENT
DTSTART;TZID=UTC:20180510T130000
DTEND;TZID=UTC:20180510T153000
DTSTAMP:20260420T082833
CREATED:20170925T212657Z
LAST-MODIFIED:20170925T212657Z
UID:1250-1525957200-1525966200@gardenclubbermuda.org
SUMMARY:Submit photo HH 1pm - 3.30pm
DESCRIPTION:
URL:https://gardenclubbermuda.org/event/submit-photo-hh-1pm-3-30pm-6/
END:VEVENT
BEGIN:VEVENT
DTSTART;TZID=UTC:20180506T233000
DTEND;TZID=UTC:20180506T233000
DTSTAMP:20260420T082833
CREATED:20170925T213921Z
LAST-MODIFIED:20170925T213921Z
UID:1265-1525649400-1525649400@gardenclubbermuda.org
SUMMARY:Photography deadline to email photo
DESCRIPTION:
URL:https://gardenclubbermuda.org/event/photography-deadline-to-email-photo-7/
END:VEVENT
BEGIN:VEVENT
DTSTART;TZID=UTC:20180505T100000
DTEND;TZID=UTC:20180505T120000
DTSTAMP:20260420T082833
CREATED:20170925T024658Z
LAST-MODIFIED:20170925T024658Z
UID:1215-1525514400-1525521600@gardenclubbermuda.org
SUMMARY:Floral Art Workshop
DESCRIPTION:“Horizontal Layered Designs and Mobiles”
URL:https://gardenclubbermuda.org/event/floral-art-workshop-8/
LOCATION:TBA\, Bermuda
END:VEVENT
BEGIN:VEVENT
DTSTART;TZID=UTC:20180504T180000
DTEND;TZID=UTC:20180504T200000
DTSTAMP:20260420T082833
CREATED:20180308T054955Z
LAST-MODIFIED:20180308T054955Z
UID:1480-1525456800-1525464000@gardenclubbermuda.org
SUMMARY:Harrington Sound Tour
DESCRIPTION:Harrington Sound Tour which was postponed due to bad weather will take place on this date (May 4th).  Meet at the Aquarium.  Further details contact Pat Robinson
URL:https://gardenclubbermuda.org/event/harrington-sound-tour-rain-date/
LOCATION:Bermuda Aquarium\, 40 North Shore Road\, Bermuda
END:VEVENT
BEGIN:VEVENT
DTSTART;TZID=UTC:20180503T150000
DTEND;TZID=UTC:20180503T170000
DTSTAMP:20260420T082833
CREATED:20170925T024520Z
LAST-MODIFIED:20170925T024520Z
UID:1213-1525359600-1525366800@gardenclubbermuda.org
SUMMARY:Little Seedlings
DESCRIPTION:End of year garden party at “Old Walls” \nEducation & Conservation
URL:https://gardenclubbermuda.org/event/little-seedlings-8/
END:VEVENT
BEGIN:VEVENT
DTSTART;TZID=UTC:20180428T080000
DTEND;TZID=UTC:20180428T120000
DTSTAMP:20260420T082833
CREATED:20180404T042629Z
LAST-MODIFIED:20180404T042629Z
UID:1490-1524902400-1524916800@gardenclubbermuda.org
SUMMARY:Garden Club of Bermuda PLANT SALE
DESCRIPTION:The Garden Club of Bermuda is having a plant sale on Saturday\, April 28th from 8am to 12 noon in the Slathouse of the Botanical Gardens in Paget.  Roses\, herbs\, shrubs and trees\, flowering plants\, succulents and palms will be available for purchase.  Credit cards accepted.
URL:https://gardenclubbermuda.org/event/garden-club-of-bermuda-plant-sale/
LOCATION:Bermuda Botanical Gardens\, Point Finger Road\, Paget\, Bermuda
END:VEVENT
BEGIN:VEVENT
DTSTART;VALUE=DATE:20180419
DTEND;VALUE=DATE:20180422
DTSTAMP:20260420T082833
CREATED:20170925T024346Z
LAST-MODIFIED:20170925T024346Z
UID:1210-1524096000-1524355199@gardenclubbermuda.org
SUMMARY:Agricultural Show
DESCRIPTION:
URL:https://gardenclubbermuda.org/event/agricultural-show/
LOCATION:Bermuda Botanical Gardens\, Point Finger Road\, Paget\, Bermuda
END:VEVENT
BEGIN:VEVENT
DTSTART;TZID=UTC:20180413T100000
DTEND;TZID=UTC:20180413T120000
DTSTAMP:20260420T082833
CREATED:20170925T024034Z
LAST-MODIFIED:20170925T024034Z
UID:1208-1523613600-1523620800@gardenclubbermuda.org
SUMMARY:General Meeting
DESCRIPTION:General Meeting to be held at Aberfeldy Nurseries.  No benches.  Hat Competition.  Dawn Yaxley speaking on Spring Container Gardens.
URL:https://gardenclubbermuda.org/event/general-meeting-7/
LOCATION:TBA\, Bermuda
END:VEVENT
BEGIN:VEVENT
DTSTART;TZID=UTC:20180407T100000
DTEND;TZID=UTC:20180407T120000
DTSTAMP:20260420T082833
CREATED:20170925T023903Z
LAST-MODIFIED:20170925T023903Z
UID:1206-1523095200-1523102400@gardenclubbermuda.org
SUMMARY:Floral Art Workshop
DESCRIPTION:“Parallel Designs”
URL:https://gardenclubbermuda.org/event/floral-art-workshop-7/
END:VEVENT
BEGIN:VEVENT
DTSTART;TZID=UTC:20180406T180000
DTEND;TZID=UTC:20180406T200000
DTSTAMP:20260420T082833
CREATED:20180308T054855Z
LAST-MODIFIED:20180308T054855Z
UID:1477-1523037600-1523044800@gardenclubbermuda.org
SUMMARY:Harrington Sound Tour POSTPONED to Friday May 4th
DESCRIPTION:Harrington Sound evening tour leaving from the Aquarium dock. POSTPONED TO: Rain date Friday May 4th due to weather conditions.
URL:https://gardenclubbermuda.org/event/harrington-sound-tour-education-conservation/
LOCATION:Bermuda Aquarium\, 40 North Shore Road\, Bermuda
END:VEVENT
BEGIN:VEVENT
DTSTART;TZID=UTC:20180316T100000
DTEND;TZID=UTC:20180316T120000
DTSTAMP:20260420T082833
CREATED:20180220T000203Z
LAST-MODIFIED:20180220T000203Z
UID:1468-1521194400-1521201600@gardenclubbermuda.org
SUMMARY:Pot Party
DESCRIPTION:Horticultural Division “Pot Party” to be held at Horticultural Hall.  Bring two potted plants for general discussion\, donate one to the Garden Club’s Plant Sale.
URL:https://gardenclubbermuda.org/event/pot-party/
LOCATION:TBA\, Bermuda
END:VEVENT
BEGIN:VEVENT
DTSTART;TZID=UTC:20180309T100000
DTEND;TZID=UTC:20180309T120000
DTSTAMP:20260420T082833
CREATED:20170925T023538Z
LAST-MODIFIED:20170925T023538Z
UID:1202-1520589600-1520596800@gardenclubbermuda.org
SUMMARY:General Meeting
DESCRIPTION:Speaker: Rev Chris Colledge who will be talking about Britain In Bloom\, and Bournemouth In Bloom\nFloral Exhibits: “Remembering Georgia O’Keeffe”
URL:https://gardenclubbermuda.org/event/general-meeting-6/
LOCATION:TBA\, Bermuda
END:VEVENT
BEGIN:VEVENT
DTSTART;TZID=UTC:20180308T130000
DTEND;TZID=UTC:20180308T153000
DTSTAMP:20260420T082833
CREATED:20170925T212602Z
LAST-MODIFIED:20170925T212602Z
UID:1248-1520514000-1520523000@gardenclubbermuda.org
SUMMARY:Submit photo HH 1pm - 3.30pm
DESCRIPTION:
URL:https://gardenclubbermuda.org/event/submit-photo-hh-1pm-3-30pm-5/
END:VEVENT
BEGIN:VEVENT
DTSTART;TZID=UTC:20180304T233000
DTEND;TZID=UTC:20180304T233000
DTSTAMP:20260420T082833
CREATED:20170925T213841Z
LAST-MODIFIED:20170925T213841Z
UID:1263-1520206200-1520206200@gardenclubbermuda.org
SUMMARY:Photography deadline to email photo
DESCRIPTION:
URL:https://gardenclubbermuda.org/event/photography-deadline-to-email-photo-6/
END:VEVENT
BEGIN:VEVENT
DTSTART;TZID=UTC:20180303T100000
DTEND;TZID=UTC:20180303T120000
DTSTAMP:20260420T082833
CREATED:20170925T023437Z
LAST-MODIFIED:20170925T023437Z
UID:1200-1520071200-1520078400@gardenclubbermuda.org
SUMMARY:Floral Art Workshop
DESCRIPTION:“Remembering Georgia O’Keefe”
URL:https://gardenclubbermuda.org/event/floral-art-workshop-2/
LOCATION:TBA\, Bermuda
END:VEVENT
BEGIN:VEVENT
DTSTART;TZID=UTC:20180301T150000
DTEND;TZID=UTC:20180301T170000
DTSTAMP:20260420T082833
CREATED:20170925T023315Z
LAST-MODIFIED:20170925T023315Z
UID:1198-1519916400-1519923600@gardenclubbermuda.org
SUMMARY:Little Seedlings
DESCRIPTION:Little Seedlings – Tucker’s Goat Farm tour and guest speaker who will show the children how to grow pineapples! \nEducation & Conservation
URL:https://gardenclubbermuda.org/event/little-seedlings-6/
END:VEVENT
BEGIN:VEVENT
DTSTART;VALUE=DATE:20180301
DTEND;VALUE=DATE:20180302
DTSTAMP:20260420T082833
CREATED:20170925T212925Z
LAST-MODIFIED:20170925T212925Z
UID:1253-1519862400-1519948799@gardenclubbermuda.org
SUMMARY:Deadline for Online Photo Competition - "Magic Moment"
DESCRIPTION:
URL:https://gardenclubbermuda.org/event/deadline-for-online-photo-competition-magic-moment/
END:VEVENT
BEGIN:VEVENT
DTSTART;TZID=UTC:20180219T194700
DTEND;TZID=UTC:20180219T194700
DTSTAMP:20260420T082833
CREATED:20170925T023754Z
LAST-MODIFIED:20170925T023754Z
UID:1204-1519069620-1519069620@gardenclubbermuda.org
SUMMARY:Little Seedlings
DESCRIPTION:
URL:https://gardenclubbermuda.org/event/little-seedlings-7/
LOCATION:Bermuda Botanical Gardens\, Point Finger Road\, Paget\, Bermuda
END:VEVENT
BEGIN:VEVENT
DTSTART;VALUE=DATE:20180217
DTEND;VALUE=DATE:20180227
DTSTAMP:20260420T082833
CREATED:20170925T025352Z
LAST-MODIFIED:20170925T025352Z
UID:1223-1518825600-1519689599@gardenclubbermuda.org
SUMMARY:WAFA India Seminar
DESCRIPTION:
URL:https://gardenclubbermuda.org/event/wafa-india-seminar/
END:VEVENT
BEGIN:VEVENT
DTSTART;TZID=UTC:20180216T100000
DTEND;TZID=UTC:20180216T120000
DTSTAMP:20260420T082833
CREATED:20180219T235917Z
LAST-MODIFIED:20180219T235917Z
UID:1466-1518775200-1518782400@gardenclubbermuda.org
SUMMARY:Grafting Workshop with Carlos Amaral
DESCRIPTION:Horticultural Division: Grafting Workshop with Carlos Amaral Horticultural Hall\, 10am-12 noon
URL:https://gardenclubbermuda.org/event/grafting-workshop-with-carlos-amaral/
LOCATION:TBA\, Bermuda
END:VEVENT
BEGIN:VEVENT
DTSTART;TZID=UTC:20180209T100000
DTEND;TZID=UTC:20180209T120000
DTSTAMP:20260420T082833
CREATED:20170924T032011Z
LAST-MODIFIED:20170924T032011Z
UID:1195-1518170400-1518177600@gardenclubbermuda.org
SUMMARY:General Meeting
DESCRIPTION:Speakers: Judy Motyer/Kim Smith (BEST/BUZZ) on glyphosate and pesticides in Bermuda\nFloral Art Theme: “Wizard of Oz”\nPhotography Theme: “Georgia O’Keefe”
URL:https://gardenclubbermuda.org/event/general-meeting-5/
END:VEVENT
BEGIN:VEVENT
DTSTART;TZID=UTC:20180208T130000
DTEND;TZID=UTC:20180208T153000
DTSTAMP:20260420T082833
CREATED:20170925T212513Z
LAST-MODIFIED:20170925T212513Z
UID:1246-1518094800-1518103800@gardenclubbermuda.org
SUMMARY:Submit photo HH 1pm - 3.30pm
DESCRIPTION:
URL:https://gardenclubbermuda.org/event/submit-photo-hh-1pm-3-30pm-4/
END:VEVENT
BEGIN:VEVENT
DTSTART;TZID=UTC:20180204T233000
DTEND;TZID=UTC:20180204T233000
DTSTAMP:20260420T082833
CREATED:20170925T213806Z
LAST-MODIFIED:20170925T213806Z
UID:1261-1517787000-1517787000@gardenclubbermuda.org
SUMMARY:Photography deadline to email photo
DESCRIPTION:
URL:https://gardenclubbermuda.org/event/photography-deadline-to-email-photo-5/
END:VEVENT
BEGIN:VEVENT
DTSTART;TZID=UTC:20180203T100000
DTEND;TZID=UTC:20180203T120000
DTSTAMP:20260420T082833
CREATED:20170924T031931Z
LAST-MODIFIED:20170924T031931Z
UID:1193-1517652000-1517659200@gardenclubbermuda.org
SUMMARY:Floral Art Workshop
DESCRIPTION:“Wizard of Oz”
URL:https://gardenclubbermuda.org/event/floral-art-workshop-6/
LOCATION:TBA\, Bermuda
END:VEVENT
BEGIN:VEVENT
DTSTART;TZID=UTC:20180201T150000
DTEND;TZID=UTC:20180201T170000
DTSTAMP:20260420T082833
CREATED:20170924T031829Z
LAST-MODIFIED:20170924T031829Z
UID:1191-1517497200-1517504400@gardenclubbermuda.org
SUMMARY:Little Seedlings
DESCRIPTION:“Goat (or dairy) Farming & Cheese Making” Venue TBA.  We’ll tour a goat or dairy farm\, see what they eat and learn about making cheese. \nEducation & Conservation
URL:https://gardenclubbermuda.org/event/little-seedlings-5/
END:VEVENT
BEGIN:VEVENT
DTSTART;TZID=UTC:20180130T140000
DTEND;TZID=UTC:20180130T160000
DTSTAMP:20260420T082833
CREATED:20180110T200833Z
LAST-MODIFIED:20180110T200833Z
UID:1429-1517320800-1517328000@gardenclubbermuda.org
SUMMARY:Plant Workshop
DESCRIPTION:Planting workshops taking place at Felicite Davidson’s slathouse\, Tuesdays commencing Jan 16th\, 2-4pm in preparation for a late April 2018 Plant Sale.  For directions to Felicite’s house please call Felicite.
URL:https://gardenclubbermuda.org/event/plant-workshop-2/
END:VEVENT
BEGIN:VEVENT
DTSTART;TZID=UTC:20180128T080000
DTEND;TZID=UTC:20180128T170000
DTSTAMP:20260420T082833
CREATED:20180128T052717Z
LAST-MODIFIED:20180128T052717Z
UID:1441-1517126400-1517158800@gardenclubbermuda.org
SUMMARY:Horticultural Division: Grafting Workshop with Carlos Amaral
DESCRIPTION:Sign up at February 9th General Meeting.  Workshop February 16th Friday\, Horticultural Hall\, 10am-12noon
URL:https://gardenclubbermuda.org/event/horticultural-division-grafting-workshop-with-carlos-amaral/
END:VEVENT
BEGIN:VEVENT
DTSTART;TZID=UTC:20180127T080000
DTEND;TZID=UTC:20180127T100000
DTSTAMP:20260420T082833
CREATED:20180111T045002Z
LAST-MODIFIED:20180111T045002Z
UID:1431-1517040000-1517047200@gardenclubbermuda.org
SUMMARY:Birdwatching at Spittal Pond
DESCRIPTION:Andrew Dobson\, President of Audubon Society\, will lead a tour of Spittal Pond on Saturday\, January 27th commencing 8am.  Rain date Sat February 24th.
URL:https://gardenclubbermuda.org/event/birdwatching-at-spittal-pond/
LOCATION:Spittal Pond Bermuda\, Smiths Parish\, Bermuda
END:VEVENT
BEGIN:VEVENT
DTSTART;TZID=UTC:20180123T140000
DTEND;TZID=UTC:20180123T160000
DTSTAMP:20260420T082833
CREATED:20180110T200729Z
LAST-MODIFIED:20180110T200729Z
UID:1427-1516716000-1516723200@gardenclubbermuda.org
SUMMARY:Plant Workshop
DESCRIPTION:Planting workshops taking place at Felicite Davidson’s slathouse\, Tuesdays commencing Jan 16th\, 2-4pm in preparation for a late April 2018 Plant Sale.  For directions to Felicite’s house please call Felicite.
URL:https://gardenclubbermuda.org/event/plant-workshop/
END:VEVENT
BEGIN:VEVENT
DTSTART;TZID=UTC:20180119T100000
DTEND;TZID=UTC:20180119T100000
DTSTAMP:20260420T082833
CREATED:20180110T195723Z
LAST-MODIFIED:20180110T195723Z
UID:1420-1516356000-1516356000@gardenclubbermuda.org
SUMMARY:Horticultural Division Coral Beach Club garden tour
DESCRIPTION:Coral Beach Club garden tour given by Rosie Davis.  $10 at time of sign up.  10am-12 noon\, Friday January 19th.  Rain date: January 26th.
URL:https://gardenclubbermuda.org/event/horticultural-division-coral-beach-club-garden-tour/
LOCATION:Coral Beach and Tennis Club\, 34 South Road\, Paget\, PG04\, Bermuda
END:VEVENT
END:VCALENDAR