BEGIN:VCALENDAR
VERSION:2.0
PRODID:-//The Garden Club of Bermuda - ECPv6.15.18//NONSGML v1.0//EN
CALSCALE:GREGORIAN
METHOD:PUBLISH
X-WR-CALNAME:The Garden Club of Bermuda
X-ORIGINAL-URL:https://gardenclubbermuda.org
X-WR-CALDESC:Events for The Garden Club of Bermuda
REFRESH-INTERVAL;VALUE=DURATION:PT1H
X-Robots-Tag:noindex
X-PUBLISHED-TTL:PT1H
BEGIN:VTIMEZONE
TZID:UTC
BEGIN:STANDARD
TZOFFSETFROM:+0000
TZOFFSETTO:+0000
TZNAME:UTC
DTSTART:20170101T000000
END:STANDARD
END:VTIMEZONE
BEGIN:VEVENT
DTSTART;TZID=UTC:20190225T180000
DTEND;TZID=UTC:20190225T200000
DTSTAMP:20260420T033222
CREATED:20190205T055425Z
LAST-MODIFIED:20190205T055425Z
UID:1849-1551117600-1551124800@gardenclubbermuda.org
SUMMARY:Skills Development Program presentation
DESCRIPTION:Skills Development Program – public presentation at Cathedral Hall\, Church Street\, Hamilton.
URL:https://gardenclubbermuda.org/event/skills-development-program-presentation/
END:VEVENT
BEGIN:VEVENT
DTSTART;TZID=UTC:20190225T180000
DTEND;TZID=UTC:20190225T193000
DTSTAMP:20260420T033222
CREATED:20190215T005958Z
LAST-MODIFIED:20190215T005958Z
UID:1874-1551117600-1551123000@gardenclubbermuda.org
SUMMARY:Skills Development Program Presentation
DESCRIPTION:A presentation by Messrs. Roger Parris and Sam Santucci of Dept of Parks welcoming visiting officials from Bournemouth\, UK .  Cathedral Hall\, Church Street Hamilton.  Light Refreshments will be served.  RSVP Cindy Young\, President cy3661@gmail.com
URL:https://gardenclubbermuda.org/event/skills-development-program-presentation-2/
LOCATION:Bermuda Cathedral\, Hamilton\, Bermuda\, Bermuda
END:VEVENT
BEGIN:VEVENT
DTSTART;TZID=UTC:20190224T140000
DTEND;TZID=UTC:20190224T160000
DTSTAMP:20260420T033222
CREATED:20181217T065834Z
LAST-MODIFIED:20181217T065834Z
UID:1813-1551016800-1551024000@gardenclubbermuda.org
SUMMARY:Train Tour of Historical Houses in the City of Hamilton
DESCRIPTION:Train tour of historical houses in the City of Hamilton\, Sunday February 24th at 2pm.  Led by Linda Abend and Margie Lloyd.
URL:https://gardenclubbermuda.org/event/train-tour-of-historical-houses-in-the-city-of-hamilton/
LOCATION:City of Hamilton
END:VEVENT
BEGIN:VEVENT
DTSTART;TZID=UTC:20190222T133000
DTEND;TZID=UTC:20190222T153000
DTSTAMP:20260420T033222
CREATED:20190205T055219Z
LAST-MODIFIED:20190205T055219Z
UID:1847-1550842200-1550849400@gardenclubbermuda.org
SUMMARY:Children's School Garden and Government House grounds tour
DESCRIPTION:Children’s School Garden and Government House grounds tour with Rev. Chris Colledge\, Nick Colledge (arborist) and Chris Evans (Horticulturalist).  Sign up sheet at February General Meeting
URL:https://gardenclubbermuda.org/event/childrens-school-garden-and-government-house-grounds-tour/
LOCATION:Government House\, Bermuda\, Langton Hill\, Pembroke\, Bermuda
END:VEVENT
BEGIN:VEVENT
DTSTART;TZID=UTC:20190222T090000
DTEND;TZID=UTC:20190222T113000
DTSTAMP:20260420T033222
CREATED:20190205T054913Z
LAST-MODIFIED:20190205T054913Z
UID:1845-1550826000-1550835000@gardenclubbermuda.org
SUMMARY:Planting Workshop
DESCRIPTION:Planting Workshop at Donna Leitch’s home with Rev Chris Colledge\, Nick Colledge (arborist) and Chris Evans (horticulturalist)  8-10 members only.  Sign up at February General Meeting.
URL:https://gardenclubbermuda.org/event/planting-workshop-2/
END:VEVENT
BEGIN:VEVENT
DTSTART;VALUE=DATE:20190216
DTEND;VALUE=DATE:20190217
DTSTAMP:20260420T033222
CREATED:20181012T034642Z
LAST-MODIFIED:20181012T034642Z
UID:1690-1550275200-1550361599@gardenclubbermuda.org
SUMMARY:Bermuda National Trust Plant and Bake Sale
DESCRIPTION:Bermuda National Trust Plant and Bake Sale
URL:https://gardenclubbermuda.org/event/bermuda-national-trust-jumbleauction-sale/
END:VEVENT
BEGIN:VEVENT
DTSTART;VALUE=DATE:20190209
DTEND;VALUE=DATE:20190210
DTSTAMP:20260420T033222
CREATED:20181002T035622Z
LAST-MODIFIED:20181002T035622Z
UID:1596-1549670400-1549756799@gardenclubbermuda.org
SUMMARY:Floral Art - Visiting Teacher
DESCRIPTION:Visiting Floral Art Teacher\, Horticultural Hall\, Botanical Gardens\, Paget
URL:https://gardenclubbermuda.org/event/floral-art-visiting-teacher-2/
LOCATION:Bermuda Botanical Gardens\, Point Finger Road\, Paget\, Bermuda
END:VEVENT
BEGIN:VEVENT
DTSTART;TZID=UTC:20190208T100000
DTEND;TZID=UTC:20190208T120000
DTSTAMP:20260420T033222
CREATED:20181002T034335Z
LAST-MODIFIED:20181002T034335Z
UID:1582-1549620000-1549627200@gardenclubbermuda.org
SUMMARY:General Meeting
DESCRIPTION:General Meeting of the Garden Club of Bermuda – all members welcome – Horticultural Hall\, Botanical Gardens Paget
URL:https://gardenclubbermuda.org/event/general-meeting-13/
LOCATION:Bermuda Botanical Gardens\, Point Finger Road\, Paget\, Bermuda
END:VEVENT
BEGIN:VEVENT
DTSTART;VALUE=DATE:20190206
DTEND;VALUE=DATE:20190207
DTSTAMP:20260420T033222
CREATED:20181002T035521Z
LAST-MODIFIED:20181002T035521Z
UID:1594-1549411200-1549497599@gardenclubbermuda.org
SUMMARY:Floral Art - visiting teacher
DESCRIPTION:Visiting Floral Art Teacher\, Horticultural Hall\, Botanical Gardens\, Paget
URL:https://gardenclubbermuda.org/event/floral-art-visiting-teacher/
LOCATION:Bermuda Botanical Gardens\, Point Finger Road\, Paget\, Bermuda
END:VEVENT
BEGIN:VEVENT
DTSTART;TZID=UTC:20190202T100000
DTEND;TZID=UTC:20190202T120000
DTSTAMP:20260420T033222
CREATED:20181008T211018Z
LAST-MODIFIED:20181008T211018Z
UID:1650-1549101600-1549108800@gardenclubbermuda.org
SUMMARY:Floral Art Workshop - all members welcome - Refer to Floral Art page for details
DESCRIPTION:Floral Art Workshop – all members welcome – Refer to Floral Art page for details
URL:https://gardenclubbermuda.org/event/floral-art-workshop-all-members-welcome-refer-to-floral-art-page-for-details-3/
LOCATION:TBA\, Bermuda
END:VEVENT
BEGIN:VEVENT
DTSTART;TZID=UTC:20190130T093000
DTEND;TZID=UTC:20190130T120000
DTSTAMP:20260420T033222
CREATED:20181002T032647Z
LAST-MODIFIED:20181002T032647Z
UID:1566-1548840600-1548849600@gardenclubbermuda.org
SUMMARY:Executive Meeting
DESCRIPTION:Executive Meeting\, Horticultural Hall\, Botanical Gardens
URL:https://gardenclubbermuda.org/event/executive-meeting-6/
LOCATION:Bermuda Botanical Gardens\, Point Finger Road\, Paget\, Bermuda
END:VEVENT
BEGIN:VEVENT
DTSTART;TZID=UTC:20190118T100000
DTEND;TZID=UTC:20190118T120000
DTSTAMP:20260420T033222
CREATED:20190112T055029Z
LAST-MODIFIED:20190112T055029Z
UID:1835-1547805600-1547812800@gardenclubbermuda.org
SUMMARY:Gardening with Eddie Cattell
DESCRIPTION:Eddie will cover different aspects of gardening including composting and pruning.
URL:https://gardenclubbermuda.org/event/gardening-with-eddie-cattell/
LOCATION:17 Grape Bay Drive\, 17 Grape Bay Drive\, Paget\, PG 06\, Bermuda
END:VEVENT
BEGIN:VEVENT
DTSTART;TZID=UTC:20190111T100000
DTEND;TZID=UTC:20190111T120000
DTSTAMP:20260420T033222
CREATED:20181002T033947Z
LAST-MODIFIED:20181002T033947Z
UID:1580-1547200800-1547208000@gardenclubbermuda.org
SUMMARY:General Meeting
DESCRIPTION:General Meeting of the Garden Club of Bermuda – all members welcome – Horticultural Hall\, Botanical Gardens Paget
URL:https://gardenclubbermuda.org/event/general-meeting-12/
LOCATION:Bermuda Botanical Gardens\, Point Finger Road\, Paget\, Bermuda
END:VEVENT
BEGIN:VEVENT
DTSTART;TZID=UTC:20190108T130000
DTEND;TZID=UTC:20190108T160000
DTSTAMP:20260420T033222
CREATED:20181217T070642Z
LAST-MODIFIED:20181217T070642Z
UID:1816-1546952400-1546963200@gardenclubbermuda.org
SUMMARY:Casemates Tour followed by tea at Aberfeldy\, Somerset
DESCRIPTION:Tour of the former Casemates Prison in Dockyard\, followed by tea at Aberfeldy\, Somerset.  January 8th (Tuesday) at 1pm
URL:https://gardenclubbermuda.org/event/casemates-tour-followed-by-tea-at-aberfeldy-somerset/
LOCATION:Casemates Prison\, Dockyard\, Somerset Bermuda\, Dockyard\, Sandys\, Bermuda
END:VEVENT
BEGIN:VEVENT
DTSTART;TZID=UTC:20190107T093000
DTEND;TZID=UTC:20190107T120000
DTSTAMP:20260420T033222
CREATED:20181002T032544Z
LAST-MODIFIED:20181002T032544Z
UID:1564-1546853400-1546862400@gardenclubbermuda.org
SUMMARY:Executive Meeting
DESCRIPTION:Executive Meeting Horticultural Hall\, Botanical Gardens
URL:https://gardenclubbermuda.org/event/executive-meeting-5/
LOCATION:Bermuda Botanical Gardens\, Point Finger Road\, Paget\, Bermuda
END:VEVENT
BEGIN:VEVENT
DTSTART;TZID=UTC:20190105T100000
DTEND;TZID=UTC:20190105T120000
DTSTAMP:20260420T033222
CREATED:20181008T210928Z
LAST-MODIFIED:20181008T210928Z
UID:1648-1546682400-1546689600@gardenclubbermuda.org
SUMMARY:Floral Art Workshop - all members welcome - Refer to Floral Art page for details
DESCRIPTION:Floral Art Workshop – all members welcome – Refer to Floral Art page for details
URL:https://gardenclubbermuda.org/event/floral-art-workshop-all-members-welcome-refer-to-floral-art-page-for-details-2/
LOCATION:TBA\, Bermuda
END:VEVENT
BEGIN:VEVENT
DTSTART;TZID=UTC:20181217T100000
DTEND;TZID=UTC:20181217T120000
DTSTAMP:20260420T033222
CREATED:20181008T214530Z
LAST-MODIFIED:20181008T214530Z
UID:1673-1545040800-1545048000@gardenclubbermuda.org
SUMMARY:Christmas Wreath Workshop with Susan Conyers
DESCRIPTION:Christmas Wreath Workshop with Susan Conyers – create your Christmas wreath\, or table centerpiece.  Items will be available for sale from the Garden Club shop.
URL:https://gardenclubbermuda.org/event/christmas-wreath-workshop-with-susan-conyers/
LOCATION:TBA\, Bermuda
END:VEVENT
BEGIN:VEVENT
DTSTART;TZID=UTC:20181214T100000
DTEND;TZID=UTC:20181214T120000
DTSTAMP:20260420T033222
CREATED:20181002T042024Z
LAST-MODIFIED:20181002T042024Z
UID:1611-1544781600-1544788800@gardenclubbermuda.org
SUMMARY:General Meeting
DESCRIPTION:General Meeting\, Horticultural Hall\, Botanical Gardens – all members welcome
URL:https://gardenclubbermuda.org/event/general-meeting-11/
LOCATION:Bermuda Botanical Gardens\, Point Finger Road\, Paget\, Bermuda
END:VEVENT
BEGIN:VEVENT
DTSTART;TZID=UTC:20181208T100000
DTEND;TZID=UTC:20181208T120000
DTSTAMP:20260420T033222
CREATED:20181008T210825Z
LAST-MODIFIED:20181008T210825Z
UID:1646-1544263200-1544270400@gardenclubbermuda.org
SUMMARY:Floral Art Workshop - all members welcome - Refer to Floral Art page for details
DESCRIPTION:Floral Art Workshop – all members welcome – Refer to Floral Art page for details
URL:https://gardenclubbermuda.org/event/floral-art-workshop-all-members-welcome-refer-to-floral-art-page-for-details/
LOCATION:Bermuda Botanical Gardens\, Point Finger Road\, Paget\, Bermuda
END:VEVENT
BEGIN:VEVENT
DTSTART;TZID=UTC:20181207T180000
DTEND;TZID=UTC:20181207T210000
DTSTAMP:20260420T033222
CREATED:20181002T041249Z
LAST-MODIFIED:20181002T041249Z
UID:1608-1544205600-1544216400@gardenclubbermuda.org
SUMMARY:Bermuda National Trust Christmas Walkabout\, St. George
DESCRIPTION:Bermuda National Trust Christmas Walkabout\, St. George.  The Garden Club of Bermuda’s Smith Garden will be open with refreshments.  Please sign up to help!
URL:https://gardenclubbermuda.org/event/bermuda-national-trust-christmas-walkabout-st-george/
LOCATION:St. George\, Bermuda\, St. George\, Bermuda
END:VEVENT
BEGIN:VEVENT
DTSTART;TZID=UTC:20181205T093000
DTEND;TZID=UTC:20181205T120000
DTSTAMP:20260420T033222
CREATED:20181002T032342Z
LAST-MODIFIED:20181002T032342Z
UID:1562-1544002200-1544011200@gardenclubbermuda.org
SUMMARY:Executive Meeting
DESCRIPTION:Executive Meeting Hort Hall\, Botanical Gardens
URL:https://gardenclubbermuda.org/event/executive-meeting-4/
END:VEVENT
BEGIN:VEVENT
DTSTART;TZID=UTC:20181109T100000
DTEND;TZID=UTC:20181109T120000
DTSTAMP:20260420T033222
CREATED:20181002T033756Z
LAST-MODIFIED:20181002T033756Z
UID:1576-1541757600-1541764800@gardenclubbermuda.org
SUMMARY:General Meeting - speaker Jennifer Davidson
DESCRIPTION:General Meeting of the Garden Club of Bermuda – all members welcome – Horticultural Hall\, Botanical Gardens Paget. Speaker: Jennifer Davidson: Sand\, wind\, salt & sun\, transformation in coastal gardens.
URL:https://gardenclubbermuda.org/event/general-meeting-10/
LOCATION:Bermuda Botanical Gardens\, Point Finger Road\, Paget\, Bermuda
END:VEVENT
BEGIN:VEVENT
DTSTART;TZID=UTC:20181103T100000
DTEND;TZID=UTC:20181103T120000
DTSTAMP:20260420T033222
CREATED:20181002T040723Z
LAST-MODIFIED:20181002T040723Z
UID:1606-1541239200-1541246400@gardenclubbermuda.org
SUMMARY:Floral Art Workshop - refer to Floral Art page for details
DESCRIPTION:Floral Art Workshop\, Horticultural Hall\, Botanical Gardens\, Paget – all welcome!  refer to Floral Art page for details
URL:https://gardenclubbermuda.org/event/floral-art-workshop-all-welcome-2/
LOCATION:Bermuda Botanical Gardens\, Point Finger Road\, Paget\, Bermuda
END:VEVENT
BEGIN:VEVENT
DTSTART;TZID=UTC:20181031T093000
DTEND;TZID=UTC:20181031T120000
DTSTAMP:20260420T033222
CREATED:20181002T032202Z
LAST-MODIFIED:20181002T032202Z
UID:1560-1540978200-1540987200@gardenclubbermuda.org
SUMMARY:Executive Meeting
DESCRIPTION:Executive Meeting\, Horticutural Hall\, Botanical Gardens
URL:https://gardenclubbermuda.org/event/executive-meeting-3/
LOCATION:Bermuda Botanical Gardens\, Point Finger Road\, Paget\, Bermuda
END:VEVENT
BEGIN:VEVENT
DTSTART;TZID=UTC:20181027T100000
DTEND;TZID=UTC:20181027T160000
DTSTAMP:20260420T033222
CREATED:20181012T033643Z
LAST-MODIFIED:20181012T033643Z
UID:1682-1540634400-1540656000@gardenclubbermuda.org
SUMMARY:Bermuda National Trust Farmfest
DESCRIPTION:Bermuda National Trust Farmfest at “Devondale” 10.00am-4.00pm https://www.bnt.bm/events/events-list/111-farmfest-2018
URL:https://gardenclubbermuda.org/event/bermuda-national-trust-farmfest/
END:VEVENT
BEGIN:VEVENT
DTSTART;TZID=UTC:20181019T100000
DTEND;TZID=UTC:20181019T120000
DTSTAMP:20260420T033222
CREATED:20181002T040319Z
LAST-MODIFIED:20181002T040319Z
UID:1599-1539943200-1539950400@gardenclubbermuda.org
SUMMARY:Horticultural Walk and Talk at the Arboretum
DESCRIPTION:Horticultural Walk and Talk on endemics at the Arboretum.  Limit of 25 persons.  $10.00 person in advance.  Sign up at the October meeting.
URL:https://gardenclubbermuda.org/event/horticultural-walk-and-talk-at-the-arboretum/
LOCATION:Arboretum Park\, Montpelier Road\, Devonshire\, Montpelier Road\, Devonshire\, Bermuda
END:VEVENT
BEGIN:VEVENT
DTSTART;TZID=UTC:20181012T100000
DTEND;TZID=UTC:20181012T120000
DTSTAMP:20260420T033222
CREATED:20181002T033638Z
LAST-MODIFIED:20181002T033638Z
UID:1574-1539338400-1539345600@gardenclubbermuda.org
SUMMARY:General Meeting - Speaker Anne Hyde\, KBB
DESCRIPTION:General Meeting of the Garden Club at Horticultural Hall\, Botanical Gardens.  Speaker: Anne Hyde\, Executive Director of Keep Bermuda Beautiful.
URL:https://gardenclubbermuda.org/event/general-meeting-9/
LOCATION:Bermuda Botanical Gardens\, Point Finger Road\, Paget\, Bermuda
END:VEVENT
BEGIN:VEVENT
DTSTART;TZID=UTC:20181006T100000
DTEND;TZID=UTC:20181006T120000
DTSTAMP:20260420T033222
CREATED:20181002T040627Z
LAST-MODIFIED:20181002T040627Z
UID:1604-1538820000-1538827200@gardenclubbermuda.org
SUMMARY:Floral Art Workshop - all welcome!  Refer to Floral Art page for details
DESCRIPTION:Floral Art Workshop\, Horticultural Hall\, Botanical Gardens\, Paget – all welcome!  Refer to Floral Art page for details
URL:https://gardenclubbermuda.org/event/floral-art-workshop-all-welcome/
LOCATION:Bermuda Botanical Gardens\, Point Finger Road\, Paget\, Bermuda
END:VEVENT
BEGIN:VEVENT
DTSTART;TZID=UTC:20181003T093000
DTEND;TZID=UTC:20181003T120000
DTSTAMP:20260420T033222
CREATED:20181002T031558Z
LAST-MODIFIED:20181002T031558Z
UID:1558-1538559000-1538568000@gardenclubbermuda.org
SUMMARY:Executive Meeting
DESCRIPTION:Executive Meeting\, Horticultural Hall\, Botanical Gardens
URL:https://gardenclubbermuda.org/event/executive-meeting-2/
LOCATION:Bermuda Botanical Gardens\, Point Finger Road\, Paget\, Bermuda
END:VEVENT
BEGIN:VEVENT
DTSTART;TZID=UTC:20180511T100000
DTEND;TZID=UTC:20180511T120000
DTSTAMP:20260420T033222
CREATED:20170925T024748Z
LAST-MODIFIED:20170925T024748Z
UID:1217-1526032800-1526040000@gardenclubbermuda.org
SUMMARY:Annual General Meeting
DESCRIPTION:
URL:https://gardenclubbermuda.org/event/general-meeting-8/
LOCATION:TBA\, Bermuda
END:VEVENT
END:VCALENDAR