BEGIN:VCALENDAR
VERSION:2.0
PRODID:-//The Garden Club of Bermuda - ECPv6.15.18//NONSGML v1.0//EN
CALSCALE:GREGORIAN
METHOD:PUBLISH
X-WR-CALNAME:The Garden Club of Bermuda
X-ORIGINAL-URL:https://gardenclubbermuda.org
X-WR-CALDESC:Events for The Garden Club of Bermuda
REFRESH-INTERVAL;VALUE=DURATION:PT1H
X-Robots-Tag:noindex
X-PUBLISHED-TTL:PT1H
BEGIN:VTIMEZONE
TZID:UTC
BEGIN:STANDARD
TZOFFSETFROM:+0000
TZOFFSETTO:+0000
TZNAME:UTC
DTSTART:20180101T000000
END:STANDARD
END:VTIMEZONE
BEGIN:VEVENT
DTSTART;TZID=UTC:20190605T093000
DTEND;TZID=UTC:20190605T113000
DTSTAMP:20260420T002541
CREATED:20190407T045122Z
LAST-MODIFIED:20190407T045122Z
UID:1918-1559727000-1559734200@gardenclubbermuda.org
SUMMARY:Joint Executive Meeting
DESCRIPTION:Horticultural Hall\, Botanical Gardens
URL:https://gardenclubbermuda.org/event/joint-executive-meeting-2/
END:VEVENT
BEGIN:VEVENT
DTSTART;TZID=UTC:20190510T100000
DTEND;TZID=UTC:20190510T120000
DTSTAMP:20260420T002541
CREATED:20181002T034754Z
LAST-MODIFIED:20181002T034754Z
UID:1592-1557482400-1557489600@gardenclubbermuda.org
SUMMARY:Annual General Meeting and Spring Hat Show
DESCRIPTION:  \nAnnual General Meeting of the Garden Club of Bermuda – including the Spring Hat Show – all members welcome – Horticultural Hall\, Botanical Gardens Paget
URL:https://gardenclubbermuda.org/event/general-meeting-15/
LOCATION:Bermuda Botanical Gardens\, Point Finger Road\, Paget\, Bermuda
END:VEVENT
BEGIN:VEVENT
DTSTART;TZID=UTC:20190501T093000
DTEND;TZID=UTC:20190501T120000
DTSTAMP:20260420T002541
CREATED:20181002T033158Z
LAST-MODIFIED:20181002T033158Z
UID:1572-1556703000-1556712000@gardenclubbermuda.org
SUMMARY:Executive Meeting
DESCRIPTION:Executive Meeting\, Horticultural Hall\, Botanical Gardens
URL:https://gardenclubbermuda.org/event/executive-meeting-9/
END:VEVENT
BEGIN:VEVENT
DTSTART;TZID=UTC:20190430T110000
DTEND;TZID=UTC:20190430T123000
DTSTAMP:20260420T002541
CREATED:20190407T044859Z
LAST-MODIFIED:20190407T044859Z
UID:1915-1556622000-1556627400@gardenclubbermuda.org
SUMMARY:Education & Conservation tour of Bermuda Historical Society/Bermuda National Library
DESCRIPTION:Bermuda Historical Society tour of the museum on Tuesday\, April 30th\, at 11am given by John Cox. The museum is located next door to the Library. Following the tour\, Ellen Hollis will give a brief talk on Bermuda National Library which will include the Archives. The complete tour and talk will be approximately one hour. There are 10 spaces available. A charge of $10 per person will be donated to the Historical Society.\nPlease contact Pat Robinson via email or on 236:1880 or 531:1880. Kindly leave a message if you are interested in attending.  Patricia Robinson parobinson12@gmail.com
URL:https://gardenclubbermuda.org/event/education-conservation-tour-of-bermuda-historical-society-bermuda-national-library/
LOCATION:Bermuda Historical Society\, Hamilton\, Bermuda\, Hamilton\, Bermuda
END:VEVENT
BEGIN:VEVENT
DTSTART;TZID=UTC:20190424T140000
DTEND;TZID=UTC:20190424T160000
DTSTAMP:20260420T002541
CREATED:20190407T044041Z
LAST-MODIFIED:20190407T044041Z
UID:1910-1556114400-1556121600@gardenclubbermuda.org
SUMMARY:Hat Workshop! ***NEW this year!***
DESCRIPTION:  \nHAT WORKSHOP!  NEW!  Hort Hall at 2:00 pm – come and join in with ideas to create your Hat for the AGM on May 10th! \n 
URL:https://gardenclubbermuda.org/event/hat-workshop-new-this-year/
LOCATION:TBA\, Bermuda
END:VEVENT
BEGIN:VEVENT
DTSTART;TZID=UTC:20190414T140000
DTEND;TZID=UTC:20190414T163000
DTSTAMP:20260420T002541
CREATED:20190407T015807Z
LAST-MODIFIED:20190407T015807Z
UID:1905-1555250400-1555259400@gardenclubbermuda.org
SUMMARY:National Trust Palm Sunday Walk
DESCRIPTION:The Bermuda National Trust Palm Sunday Walk \n14 April 2019 14:00 – 16:30 \nLocation: Cross Island\, Dockyard Wharf\, Bermuda \n  \nJoin us on Sunday\, April 14th\, 2019 for our annual Palm Sunday Walk! \nTime: 2pm (no later than 3pm) \nStart/Parking: Cross Island \nDistance: Approx 5 miles (2.5 hours) \nRAIN\, BLOW or SHINE! \n\nNO prams or dogs allowed!\nCash donations welcomed.\nBNT Merchandise for sale.\nSweet Saak Hot Cross Buns available at the half way point.\nDrinks donated by John Barritt and Son Ltd\n\ncheck out any further information on www.bnt.bm
URL:https://gardenclubbermuda.org/event/national-trust-palm-sunday-walk/
LOCATION:Cross Island\, Dockyard\, Sandys\, Bermuda\, Bermuda
END:VEVENT
BEGIN:VEVENT
DTSTART;TZID=UTC:20190414T083000
DTEND;TZID=UTC:20190414T120000
DTSTAMP:20260420T002541
CREATED:20190407T043616Z
LAST-MODIFIED:20190407T043616Z
UID:1908-1555230600-1555243200@gardenclubbermuda.org
SUMMARY:Eye Institute Classic Walk & Run at the Arboretum
DESCRIPTION:Eye Institute Run/Walk on Sunday\, April 14th at the Arboretum on Middle Road in Devonshire.  Dr. Teye Botchway and staff are very kindly splitting the profits from this event between Age Concern and the Skills Development Program (c/o The Garden Club of Bermuda).  \nYou are urged to enter and sign up – get some sponsors! \nhttps://runsignup.com/Race/Devonshire/EyeInstituteClassic \nJunior Walkers\, Competitive Walkers and Regular Walkers start at 8:30 a.m. and Runners start at 9:00 a.m.
URL:https://gardenclubbermuda.org/event/eye-institute-classic-walk-run-at-the-arboretum/
LOCATION:Arboretum Park\, Montpelier Road\, Devonshire\, Montpelier Road\, Devonshire\, Bermuda
END:VEVENT
BEGIN:VEVENT
DTSTART;VALUE=DATE:20190413
DTEND;VALUE=DATE:20190414
DTSTAMP:20260420T002541
CREATED:20181002T034705Z
LAST-MODIFIED:20181002T034705Z
UID:1590-1555113600-1555199999@gardenclubbermuda.org
SUMMARY:Agricultural Show
DESCRIPTION:Agricultural Show\, Botanical Gardens\, Paget
URL:https://gardenclubbermuda.org/event/agricultural-show-4/
LOCATION:Bermuda Botanical Gardens\, Point Finger Road\, Paget\, Bermuda
END:VEVENT
BEGIN:VEVENT
DTSTART;VALUE=DATE:20190412
DTEND;VALUE=DATE:20190413
DTSTAMP:20260420T002541
CREATED:20181002T034559Z
LAST-MODIFIED:20181002T034559Z
UID:1588-1555027200-1555113599@gardenclubbermuda.org
SUMMARY:Agricultural Show - NO GENERAL MEETING THIS MONTH
DESCRIPTION:Agricultural Show\, Botanical Gardens\, Paget
URL:https://gardenclubbermuda.org/event/agricultural-show-3/
LOCATION:Bermuda Botanical Gardens\, Point Finger Road\, Paget\, Bermuda
END:VEVENT
BEGIN:VEVENT
DTSTART;VALUE=DATE:20190411
DTEND;VALUE=DATE:20190412
DTSTAMP:20260420T002541
CREATED:20181002T034529Z
LAST-MODIFIED:20181002T034529Z
UID:1586-1554940800-1555027199@gardenclubbermuda.org
SUMMARY:Agricultural Show
DESCRIPTION:Agricultural Show\, Botanical Gardens\, Paget
URL:https://gardenclubbermuda.org/event/agricultural-show-2/
LOCATION:Bermuda Botanical Gardens\, Point Finger Road\, Paget\, Bermuda
END:VEVENT
BEGIN:VEVENT
DTSTART;TZID=UTC:20190406T100000
DTEND;TZID=UTC:20190406T120000
DTSTAMP:20260420T002541
CREATED:20181008T211247Z
LAST-MODIFIED:20181008T211247Z
UID:1656-1554544800-1554552000@gardenclubbermuda.org
SUMMARY:Floral Art Workshop - all members welcome - Refer to Floral Art page for details
DESCRIPTION:Floral Art Workshop – all members welcome – Refer to Floral Art page for details – venue tba
URL:https://gardenclubbermuda.org/event/floral-art-workshop-all-members-welcome-refer-to-floral-art-page-for-details-6/
LOCATION:TBA\, Bermuda
END:VEVENT
BEGIN:VEVENT
DTSTART;TZID=UTC:20190403T093000
DTEND;TZID=UTC:20190403T120000
DTSTAMP:20260420T002541
CREATED:20181002T032918Z
LAST-MODIFIED:20181002T032918Z
UID:1570-1554283800-1554292800@gardenclubbermuda.org
SUMMARY:Executive Meeting
DESCRIPTION:Executive Meeting\, Horticultural Hall\, Botanical Gardens
URL:https://gardenclubbermuda.org/event/executive-meeting-8/
END:VEVENT
BEGIN:VEVENT
DTSTART;TZID=UTC:20190308T100000
DTEND;TZID=UTC:20190308T120000
DTSTAMP:20260420T002541
CREATED:20181002T034427Z
LAST-MODIFIED:20181002T034427Z
UID:1584-1552039200-1552046400@gardenclubbermuda.org
SUMMARY:General Meeting - presentation by Rosie Irving\, Horticultural researcher for the BBC
DESCRIPTION:General Meeting of the Garden Club of Bermuda – all members welcome – Horticultural Hall\, Botanical Gardens Paget.  Presentation by Rosie Irvine\, Horticultural researcher for the BBC\, including Gardener’s World programme.
URL:https://gardenclubbermuda.org/event/general-meeting-14/
LOCATION:Bermuda Botanical Gardens\, Point Finger Road\, Paget\, Bermuda
END:VEVENT
BEGIN:VEVENT
DTSTART;VALUE=DATE:20190308
DTEND;VALUE=DATE:20190318
DTSTAMP:20260420T002541
CREATED:20181012T035258Z
LAST-MODIFIED:20181012T035258Z
UID:1692-1552003200-1552867199@gardenclubbermuda.org
SUMMARY:Canada Blooms "A Family Affair"
DESCRIPTION:Canada Blooms “A Family Affair” Toronto Enercare Center.
URL:https://gardenclubbermuda.org/event/canada-blooms-a-family-affair/
LOCATION:Enercare Center\, Exhibition Place\, Toronto\, Canada
END:VEVENT
BEGIN:VEVENT
DTSTART;TZID=UTC:20190307T180000
DTEND;TZID=UTC:20190307T193000
DTSTAMP:20260420T002541
CREATED:20190205T054310Z
LAST-MODIFIED:20190205T054310Z
UID:1843-1551981600-1551987000@gardenclubbermuda.org
SUMMARY:Talk by Michael Marriott\, Senior Rosarian of David Austin Roses
DESCRIPTION:Talk by Michael Marriott\, senior rosarian of David Austin Roses “Roses and their versatility in the garden”
URL:https://gardenclubbermuda.org/event/talk-by-michael-marriott-senior-rosarian-of-david-austin-roses/
LOCATION:TBA\, Bermuda
END:VEVENT
BEGIN:VEVENT
DTSTART;TZID=UTC:20190307T180000
DTEND;TZID=UTC:20190307T190000
DTSTAMP:20260420T002541
CREATED:20190205T053518Z
LAST-MODIFIED:20190205T053518Z
UID:1838-1551981600-1551985200@gardenclubbermuda.org
SUMMARY:Michael Marriott (David Austin Roses) "Roses and their versatility in the garden"
DESCRIPTION:Michael Marriott (David Austin Roses) “Roses and their versatility in the garden” Horticultural Hall\, Botanical Gardens.  Light refreshments served.
URL:https://gardenclubbermuda.org/event/michael-marriott-david-austin-roses-roses-and-their-versatility-in-the-garden/
LOCATION:TBA\, Bermuda
END:VEVENT
BEGIN:VEVENT
DTSTART;TZID=UTC:20190302T100000
DTEND;TZID=UTC:20190302T120000
DTSTAMP:20260420T002541
CREATED:20181008T212918Z
LAST-MODIFIED:20181008T212918Z
UID:1662-1551520800-1551528000@gardenclubbermuda.org
SUMMARY:Floral Art Workshop - All welcome - see schedule on Floral Art page
DESCRIPTION:Floral Art Workshop – All welcome – see schedule on Floral Art page
URL:https://gardenclubbermuda.org/event/floral-art-workshop-all-welcome-see-schedule-on-floral-art-page/
LOCATION:TBA\, Bermuda
END:VEVENT
BEGIN:VEVENT
DTSTART;TZID=UTC:20190302T080000
DTEND;TZID=UTC:20190302T170000
DTSTAMP:20260420T002541
CREATED:20190104T053004Z
LAST-MODIFIED:20190104T053004Z
UID:1821-1551513600-1551546000@gardenclubbermuda.org
SUMMARY:National Trust Auction
DESCRIPTION:Bermuda National Trust Auction
URL:https://gardenclubbermuda.org/event/national-trust-auction/
END:VEVENT
BEGIN:VEVENT
DTSTART;VALUE=DATE:20190302
DTEND;VALUE=DATE:20190311
DTSTAMP:20260420T002541
CREATED:20181012T035716Z
LAST-MODIFIED:20181012T035716Z
UID:1695-1551484800-1552262399@gardenclubbermuda.org
SUMMARY:PHS Flower Show "Flower Power"
DESCRIPTION:
URL:https://gardenclubbermuda.org/event/phs-flower-show-flower-power/
LOCATION:Pennsylvania Convention Center\, Philadelphia\, United States
END:VEVENT
BEGIN:VEVENT
DTSTART;TZID=UTC:20190227T093000
DTEND;TZID=UTC:20190227T120000
DTSTAMP:20260420T002541
CREATED:20181002T032805Z
LAST-MODIFIED:20181002T032805Z
UID:1568-1551259800-1551268800@gardenclubbermuda.org
SUMMARY:Executive Meeting
DESCRIPTION:Executive Meeting\, Horticultural Hall\, Botanical Gardens
URL:https://gardenclubbermuda.org/event/executive-meeting-7/
END:VEVENT
BEGIN:VEVENT
DTSTART;TZID=UTC:20190225T180000
DTEND;TZID=UTC:20190225T200000
DTSTAMP:20260420T002541
CREATED:20190205T055425Z
LAST-MODIFIED:20190205T055425Z
UID:1849-1551117600-1551124800@gardenclubbermuda.org
SUMMARY:Skills Development Program presentation
DESCRIPTION:Skills Development Program – public presentation at Cathedral Hall\, Church Street\, Hamilton.
URL:https://gardenclubbermuda.org/event/skills-development-program-presentation/
END:VEVENT
BEGIN:VEVENT
DTSTART;TZID=UTC:20190225T180000
DTEND;TZID=UTC:20190225T193000
DTSTAMP:20260420T002541
CREATED:20190215T005958Z
LAST-MODIFIED:20190215T005958Z
UID:1874-1551117600-1551123000@gardenclubbermuda.org
SUMMARY:Skills Development Program Presentation
DESCRIPTION:A presentation by Messrs. Roger Parris and Sam Santucci of Dept of Parks welcoming visiting officials from Bournemouth\, UK .  Cathedral Hall\, Church Street Hamilton.  Light Refreshments will be served.  RSVP Cindy Young\, President cy3661@gmail.com
URL:https://gardenclubbermuda.org/event/skills-development-program-presentation-2/
LOCATION:Bermuda Cathedral\, Hamilton\, Bermuda\, Bermuda
END:VEVENT
BEGIN:VEVENT
DTSTART;TZID=UTC:20190224T140000
DTEND;TZID=UTC:20190224T160000
DTSTAMP:20260420T002541
CREATED:20181217T065834Z
LAST-MODIFIED:20181217T065834Z
UID:1813-1551016800-1551024000@gardenclubbermuda.org
SUMMARY:Train Tour of Historical Houses in the City of Hamilton
DESCRIPTION:Train tour of historical houses in the City of Hamilton\, Sunday February 24th at 2pm.  Led by Linda Abend and Margie Lloyd.
URL:https://gardenclubbermuda.org/event/train-tour-of-historical-houses-in-the-city-of-hamilton/
LOCATION:City of Hamilton
END:VEVENT
BEGIN:VEVENT
DTSTART;TZID=UTC:20190222T133000
DTEND;TZID=UTC:20190222T153000
DTSTAMP:20260420T002541
CREATED:20190205T055219Z
LAST-MODIFIED:20190205T055219Z
UID:1847-1550842200-1550849400@gardenclubbermuda.org
SUMMARY:Children's School Garden and Government House grounds tour
DESCRIPTION:Children’s School Garden and Government House grounds tour with Rev. Chris Colledge\, Nick Colledge (arborist) and Chris Evans (Horticulturalist).  Sign up sheet at February General Meeting
URL:https://gardenclubbermuda.org/event/childrens-school-garden-and-government-house-grounds-tour/
LOCATION:Government House\, Bermuda\, Langton Hill\, Pembroke\, Bermuda
END:VEVENT
BEGIN:VEVENT
DTSTART;TZID=UTC:20190222T090000
DTEND;TZID=UTC:20190222T113000
DTSTAMP:20260420T002541
CREATED:20190205T054913Z
LAST-MODIFIED:20190205T054913Z
UID:1845-1550826000-1550835000@gardenclubbermuda.org
SUMMARY:Planting Workshop
DESCRIPTION:Planting Workshop at Donna Leitch’s home with Rev Chris Colledge\, Nick Colledge (arborist) and Chris Evans (horticulturalist)  8-10 members only.  Sign up at February General Meeting.
URL:https://gardenclubbermuda.org/event/planting-workshop-2/
END:VEVENT
BEGIN:VEVENT
DTSTART;VALUE=DATE:20190216
DTEND;VALUE=DATE:20190217
DTSTAMP:20260420T002541
CREATED:20181012T034642Z
LAST-MODIFIED:20181012T034642Z
UID:1690-1550275200-1550361599@gardenclubbermuda.org
SUMMARY:Bermuda National Trust Plant and Bake Sale
DESCRIPTION:Bermuda National Trust Plant and Bake Sale
URL:https://gardenclubbermuda.org/event/bermuda-national-trust-jumbleauction-sale/
END:VEVENT
BEGIN:VEVENT
DTSTART;VALUE=DATE:20190209
DTEND;VALUE=DATE:20190210
DTSTAMP:20260420T002541
CREATED:20181002T035622Z
LAST-MODIFIED:20181002T035622Z
UID:1596-1549670400-1549756799@gardenclubbermuda.org
SUMMARY:Floral Art - Visiting Teacher
DESCRIPTION:Visiting Floral Art Teacher\, Horticultural Hall\, Botanical Gardens\, Paget
URL:https://gardenclubbermuda.org/event/floral-art-visiting-teacher-2/
LOCATION:Bermuda Botanical Gardens\, Point Finger Road\, Paget\, Bermuda
END:VEVENT
BEGIN:VEVENT
DTSTART;TZID=UTC:20190208T100000
DTEND;TZID=UTC:20190208T120000
DTSTAMP:20260420T002541
CREATED:20181002T034335Z
LAST-MODIFIED:20181002T034335Z
UID:1582-1549620000-1549627200@gardenclubbermuda.org
SUMMARY:General Meeting
DESCRIPTION:General Meeting of the Garden Club of Bermuda – all members welcome – Horticultural Hall\, Botanical Gardens Paget
URL:https://gardenclubbermuda.org/event/general-meeting-13/
LOCATION:Bermuda Botanical Gardens\, Point Finger Road\, Paget\, Bermuda
END:VEVENT
BEGIN:VEVENT
DTSTART;VALUE=DATE:20190206
DTEND;VALUE=DATE:20190207
DTSTAMP:20260420T002541
CREATED:20181002T035521Z
LAST-MODIFIED:20181002T035521Z
UID:1594-1549411200-1549497599@gardenclubbermuda.org
SUMMARY:Floral Art - visiting teacher
DESCRIPTION:Visiting Floral Art Teacher\, Horticultural Hall\, Botanical Gardens\, Paget
URL:https://gardenclubbermuda.org/event/floral-art-visiting-teacher/
LOCATION:Bermuda Botanical Gardens\, Point Finger Road\, Paget\, Bermuda
END:VEVENT
BEGIN:VEVENT
DTSTART;TZID=UTC:20190202T100000
DTEND;TZID=UTC:20190202T120000
DTSTAMP:20260420T002541
CREATED:20181008T211018Z
LAST-MODIFIED:20181008T211018Z
UID:1650-1549101600-1549108800@gardenclubbermuda.org
SUMMARY:Floral Art Workshop - all members welcome - Refer to Floral Art page for details
DESCRIPTION:Floral Art Workshop – all members welcome – Refer to Floral Art page for details
URL:https://gardenclubbermuda.org/event/floral-art-workshop-all-members-welcome-refer-to-floral-art-page-for-details-3/
LOCATION:TBA\, Bermuda
END:VEVENT
END:VCALENDAR