BEGIN:VCALENDAR
VERSION:2.0
PRODID:-//The Garden Club of Bermuda - ECPv6.15.18//NONSGML v1.0//EN
CALSCALE:GREGORIAN
METHOD:PUBLISH
X-WR-CALNAME:The Garden Club of Bermuda
X-ORIGINAL-URL:https://gardenclubbermuda.org
X-WR-CALDESC:Events for The Garden Club of Bermuda
REFRESH-INTERVAL;VALUE=DURATION:PT1H
X-Robots-Tag:noindex
X-PUBLISHED-TTL:PT1H
BEGIN:VTIMEZONE
TZID:Atlantic/Bermuda
BEGIN:DAYLIGHT
TZOFFSETFROM:-0400
TZOFFSETTO:-0300
TZNAME:ADT
DTSTART:20200308T060000
END:DAYLIGHT
BEGIN:STANDARD
TZOFFSETFROM:-0300
TZOFFSETTO:-0400
TZNAME:AST
DTSTART:20201101T050000
END:STANDARD
BEGIN:DAYLIGHT
TZOFFSETFROM:-0400
TZOFFSETTO:-0300
TZNAME:ADT
DTSTART:20210314T060000
END:DAYLIGHT
BEGIN:STANDARD
TZOFFSETFROM:-0300
TZOFFSETTO:-0400
TZNAME:AST
DTSTART:20211107T050000
END:STANDARD
BEGIN:DAYLIGHT
TZOFFSETFROM:-0400
TZOFFSETTO:-0300
TZNAME:ADT
DTSTART:20220313T060000
END:DAYLIGHT
BEGIN:STANDARD
TZOFFSETFROM:-0300
TZOFFSETTO:-0400
TZNAME:AST
DTSTART:20221106T050000
END:STANDARD
END:VTIMEZONE
BEGIN:VEVENT
DTSTART;VALUE=DATE:20211203
DTEND;VALUE=DATE:20211204
DTSTAMP:20260419T235941
CREATED:20211001T150719Z
LAST-MODIFIED:20211001T151623Z
UID:5733-1638489600-1638575999@gardenclubbermuda.org
SUMMARY:December Photography Competition - last day for submission
DESCRIPTION:https://gardenclubbermuda.org/events/photography-competitions/
URL:https://gardenclubbermuda.org/event/december-photography-competition-last-day-for-submission/
END:VEVENT
BEGIN:VEVENT
DTSTART;TZID=Atlantic/Bermuda:20211201T093000
DTEND;TZID=Atlantic/Bermuda:20211201T113000
DTSTAMP:20260419T235941
CREATED:20210927T183312Z
LAST-MODIFIED:20210927T192507Z
UID:5643-1638351000-1638358200@gardenclubbermuda.org
SUMMARY:Executive Meeting
DESCRIPTION:
URL:https://gardenclubbermuda.org/event/executive-meeting-29/
END:VEVENT
BEGIN:VEVENT
DTSTART;TZID=Atlantic/Bermuda:20211119T100000
DTEND;TZID=Atlantic/Bermuda:20211119T113000
DTSTAMP:20260419T235941
CREATED:20210927T191100Z
LAST-MODIFIED:20211103T183556Z
UID:5674-1637316000-1637321400@gardenclubbermuda.org
SUMMARY:General Meeting - via zoom - speaker Tucker Murphy
DESCRIPTION:
URL:https://gardenclubbermuda.org/event/general-meeting-33/
END:VEVENT
BEGIN:VEVENT
DTSTART;TZID=Atlantic/Bermuda:20211119T080000
DTEND;TZID=Atlantic/Bermuda:20211119T170000
DTSTAMP:20260419T235941
CREATED:20211001T022839Z
LAST-MODIFIED:20211001T022839Z
UID:5713-1637308800-1637341200@gardenclubbermuda.org
SUMMARY:Photography Competition
DESCRIPTION:‘Wild Things’ (see Schedule and Guidelines in Photography Competitions
URL:https://gardenclubbermuda.org/event/photography-competition-2/
END:VEVENT
BEGIN:VEVENT
DTSTART;TZID=Atlantic/Bermuda:20211113T100000
DTEND;TZID=Atlantic/Bermuda:20211113T120000
DTSTAMP:20260419T235941
CREATED:20210927T184248Z
LAST-MODIFIED:20210927T192549Z
UID:5657-1636797600-1636804800@gardenclubbermuda.org
SUMMARY:Floral Art Workshop
DESCRIPTION:
URL:https://gardenclubbermuda.org/event/floral-art-workshop-18/
END:VEVENT
BEGIN:VEVENT
DTSTART;VALUE=DATE:20211112
DTEND;VALUE=DATE:20211113
DTSTAMP:20260419T235941
CREATED:20211001T150634Z
LAST-MODIFIED:20211001T151538Z
UID:5731-1636675200-1636761599@gardenclubbermuda.org
SUMMARY:November Photography Competition - last day for submission
DESCRIPTION:https://gardenclubbermuda.org/events/photography-competitions/
URL:https://gardenclubbermuda.org/event/november-photography-competition-last-day-for-submission/
END:VEVENT
BEGIN:VEVENT
DTSTART;TZID=Atlantic/Bermuda:20211103T093000
DTEND;TZID=Atlantic/Bermuda:20211103T113000
DTSTAMP:20260419T235941
CREATED:20210927T182917Z
LAST-MODIFIED:20210927T192617Z
UID:5641-1635931800-1635939000@gardenclubbermuda.org
SUMMARY:Executive Meeting
DESCRIPTION:
URL:https://gardenclubbermuda.org/event/executive-meeting-28/
END:VEVENT
BEGIN:VEVENT
DTSTART;TZID=Atlantic/Bermuda:20211023T100000
DTEND;TZID=Atlantic/Bermuda:20211023T120000
DTSTAMP:20260419T235941
CREATED:20211008T151650Z
LAST-MODIFIED:20211008T152022Z
UID:5760-1634983200-1634990400@gardenclubbermuda.org
SUMMARY:Drive By Surprise!  For Members Only
DESCRIPTION:Drive by the Horticultural Hall and receive your surprise as part of our 100th anniversary celebrations!
URL:https://gardenclubbermuda.org/event/drive-by-surprise-for-members-only-2/
LOCATION:Carter House\, St David’s.\, 34 Southside Road\, St. Davids\, DD01\, Bermuda
END:VEVENT
BEGIN:VEVENT
DTSTART;TZID=Atlantic/Bermuda:20211020T100000
DTEND;TZID=Atlantic/Bermuda:20211020T120000
DTSTAMP:20260419T235941
CREATED:20211008T151553Z
LAST-MODIFIED:20211008T151941Z
UID:5758-1634724000-1634731200@gardenclubbermuda.org
SUMMARY:Drive By Surprise!  For Members Only
DESCRIPTION:Drive by the Horticultural Hall and receive your surprise as part of our 100th anniversary celebrations!
URL:https://gardenclubbermuda.org/event/drive-by-surprise-for-members-only/
LOCATION:Carter House\, St David’s.\, 34 Southside Road\, St. Davids\, DD01\, Bermuda
END:VEVENT
BEGIN:VEVENT
DTSTART;TZID=Atlantic/Bermuda:20211008T100000
DTEND;TZID=Atlantic/Bermuda:20211008T120000
DTSTAMP:20260419T235941
CREATED:20210927T191020Z
LAST-MODIFIED:20210927T192640Z
UID:5672-1633687200-1633694400@gardenclubbermuda.org
SUMMARY:General Meeting
DESCRIPTION:
URL:https://gardenclubbermuda.org/event/general-meeting-25/
END:VEVENT
BEGIN:VEVENT
DTSTART;TZID=Atlantic/Bermuda:20211008T080000
DTEND;TZID=Atlantic/Bermuda:20211008T170000
DTSTAMP:20260419T235941
CREATED:20211001T022750Z
LAST-MODIFIED:20211001T022800Z
UID:5711-1633680000-1633712400@gardenclubbermuda.org
SUMMARY:Photography competition
DESCRIPTION:‘Seasonal Beauty’ (see Schedule and Guidelines in Photography Competitions
URL:https://gardenclubbermuda.org/event/photography-competition/
END:VEVENT
BEGIN:VEVENT
DTSTART;TZID=Atlantic/Bermuda:20211007T120000
DTEND;TZID=Atlantic/Bermuda:20211007T120000
DTSTAMP:20260419T235941
CREATED:20211001T174849Z
LAST-MODIFIED:20211001T174849Z
UID:5747-1633608000-1633608000@gardenclubbermuda.org
SUMMARY:Floral Art (Virtual) deadline
DESCRIPTION:Submissions by email to Cindy Young
URL:https://gardenclubbermuda.org/event/floral-art-virtual-deadline/
END:VEVENT
BEGIN:VEVENT
DTSTART;TZID=Atlantic/Bermuda:20211002T100000
DTEND;TZID=Atlantic/Bermuda:20211002T120000
DTSTAMP:20260419T235941
CREATED:20210927T184211Z
LAST-MODIFIED:20210927T192705Z
UID:5655-1633168800-1633176000@gardenclubbermuda.org
SUMMARY:Floral Art Workshop
DESCRIPTION:
URL:https://gardenclubbermuda.org/event/floral-art-workshop-17/
END:VEVENT
BEGIN:VEVENT
DTSTART;VALUE=DATE:20211001
DTEND;VALUE=DATE:20211002
DTSTAMP:20260419T235941
CREATED:20211001T150447Z
LAST-MODIFIED:20211001T151457Z
UID:5729-1633046400-1633132799@gardenclubbermuda.org
SUMMARY:October Photography Competition last day for submission
DESCRIPTION:Last day for submission of photographs for October’s Photography Competition – see https://gardenclubbermuda.org/events/photography-competitions/
URL:https://gardenclubbermuda.org/event/october-photography-competition-last-day-for-submission/
END:VEVENT
BEGIN:VEVENT
DTSTART;TZID=Atlantic/Bermuda:20210929T093000
DTEND;TZID=Atlantic/Bermuda:20210929T113000
DTSTAMP:20260419T235941
CREATED:20210927T182750Z
LAST-MODIFIED:20210927T192732Z
UID:5638-1632907800-1632915000@gardenclubbermuda.org
SUMMARY:Executive Meeting
DESCRIPTION:
URL:https://gardenclubbermuda.org/event/executive-meeting-20/
END:VEVENT
BEGIN:VEVENT
DTSTART;TZID=Atlantic/Bermuda:20210507T100000
DTEND;TZID=Atlantic/Bermuda:20210507T120000
DTSTAMP:20260419T235941
CREATED:20200929T152423Z
LAST-MODIFIED:20210331T131813Z
UID:4243-1620381600-1620388800@gardenclubbermuda.org
SUMMARY:Annual General Meeting
DESCRIPTION:
URL:https://gardenclubbermuda.org/event/general-meeting-32/
LOCATION:TBA\, Bermuda
END:VEVENT
BEGIN:VEVENT
DTSTART;TZID=Atlantic/Bermuda:20210501T100000
DTEND;TZID=Atlantic/Bermuda:20210501T120000
DTSTAMP:20260419T235941
CREATED:20200929T152157Z
LAST-MODIFIED:20210331T132529Z
UID:4238-1619863200-1619870400@gardenclubbermuda.org
SUMMARY:Floral Art Workshop
DESCRIPTION:
URL:https://gardenclubbermuda.org/event/executive-meeting-26/
LOCATION:TBA\, Bermuda
END:VEVENT
BEGIN:VEVENT
DTSTART;TZID=Atlantic/Bermuda:20210428T093000
DTEND;TZID=Atlantic/Bermuda:20210428T113000
DTSTAMP:20260419T235941
CREATED:20200929T152344Z
LAST-MODIFIED:20210331T132623Z
UID:4241-1619602200-1619609400@gardenclubbermuda.org
SUMMARY:Executive Meeting
DESCRIPTION:
URL:https://gardenclubbermuda.org/event/executive-meeting-27/
LOCATION:TBA\, Bermuda
END:VEVENT
BEGIN:VEVENT
DTSTART;TZID=Atlantic/Bermuda:20210409T100000
DTEND;TZID=Atlantic/Bermuda:20210409T120000
DTSTAMP:20260419T235941
CREATED:20200929T152113Z
LAST-MODIFIED:20210331T132958Z
UID:4236-1617962400-1617969600@gardenclubbermuda.org
SUMMARY:General Meeting
DESCRIPTION:VIA ZOOM
URL:https://gardenclubbermuda.org/event/general-meeting-31/
LOCATION:Via Zoom\, Bermuda
END:VEVENT
BEGIN:VEVENT
DTSTART;TZID=Atlantic/Bermuda:20210403T100000
DTEND;TZID=Atlantic/Bermuda:20210403T120000
DTSTAMP:20260419T235941
CREATED:20200929T152024Z
LAST-MODIFIED:20210331T132457Z
UID:4234-1617444000-1617451200@gardenclubbermuda.org
SUMMARY:Floral Art Workshop
DESCRIPTION:
URL:https://gardenclubbermuda.org/event/floral-art-workshop-22/
LOCATION:TBA\, Bermuda
END:VEVENT
BEGIN:VEVENT
DTSTART;TZID=Atlantic/Bermuda:20210331T093000
DTEND;TZID=Atlantic/Bermuda:20210331T113000
DTSTAMP:20260419T235941
CREATED:20200929T151943Z
LAST-MODIFIED:20200929T151943Z
UID:4232-1617183000-1617190200@gardenclubbermuda.org
SUMMARY:Executive Meeting
DESCRIPTION:
URL:https://gardenclubbermuda.org/event/executive-meeting-25/
LOCATION:TBA\, Bermuda
END:VEVENT
BEGIN:VEVENT
DTSTART;TZID=Atlantic/Bermuda:20210326T100000
DTEND;TZID=Atlantic/Bermuda:20210326T120000
DTSTAMP:20260419T235941
CREATED:20210325T191315Z
LAST-MODIFIED:20210325T191928Z
UID:5003-1616752800-1616760000@gardenclubbermuda.org
SUMMARY:Horticultural Workshop  POSTPONED
DESCRIPTION:Sylvia Outerbridge\, Liz Adderley and Sheila Semos will provide a “Kokedamas” (moss wrapped plant) workshop on Friday\, March 26 at 10am at Hort. Hall. Thjey will first demonstrate how to make one and then assist the members of our group to make their own Kokedamas to take home. \nThis workshop will be limited to 18 members with 6 people per demonstrator and members must register in advance.       PLEASE NOTE THIS EVENT HAS BEEN POSTPONED
URL:https://gardenclubbermuda.org/event/horticultural-workshop-4/
LOCATION:TBA\, Bermuda
END:VEVENT
BEGIN:VEVENT
DTSTART;TZID=Atlantic/Bermuda:20210312T100000
DTEND;TZID=Atlantic/Bermuda:20210312T120000
DTSTAMP:20260419T235941
CREATED:20200929T151856Z
LAST-MODIFIED:20200929T151856Z
UID:4230-1615543200-1615550400@gardenclubbermuda.org
SUMMARY:General Meeting
DESCRIPTION:
URL:https://gardenclubbermuda.org/event/general-meeting-30/
LOCATION:TBA\, Bermuda
END:VEVENT
BEGIN:VEVENT
DTSTART;TZID=Atlantic/Bermuda:20210306T100000
DTEND;TZID=Atlantic/Bermuda:20210306T120000
DTSTAMP:20260419T235941
CREATED:20200929T151813Z
LAST-MODIFIED:20210220T153055Z
UID:4228-1615024800-1615032000@gardenclubbermuda.org
SUMMARY:Floral Art Workshop
DESCRIPTION:Please follow all COVID rules and guidelines as set out by the Bermuda Government.
URL:https://gardenclubbermuda.org/event/floral-art-workshop-21/
LOCATION:TBA\, Bermuda
END:VEVENT
BEGIN:VEVENT
DTSTART;TZID=Atlantic/Bermuda:20210303T093000
DTEND;TZID=Atlantic/Bermuda:20210303T113000
DTSTAMP:20260419T235941
CREATED:20200929T151710Z
LAST-MODIFIED:20210220T153223Z
UID:4226-1614763800-1614771000@gardenclubbermuda.org
SUMMARY:Executive Meeting
DESCRIPTION:Please follow all COVID safety rules as set out by the Bermuda Government.
URL:https://gardenclubbermuda.org/event/executive-meeting-24/
LOCATION:TBA\, Bermuda
END:VEVENT
BEGIN:VEVENT
DTSTART;TZID=Atlantic/Bermuda:20210213T083000
DTEND;TZID=Atlantic/Bermuda:20210213T120000
DTSTAMP:20260419T235941
CREATED:20210203T151222Z
LAST-MODIFIED:20210203T151239Z
UID:4867-1613205000-1613217600@gardenclubbermuda.org
SUMMARY:Bermuda National Trust Plant and Bake Sale
DESCRIPTION:Bermuda National Trust Plant and Bake Sale  https://bnt.bm/events/events-list/211-plant-bake-sale-2021
URL:https://gardenclubbermuda.org/event/bermuda-national-trust-plant-and-bake-sale-2/
LOCATION:Waterville\, 2 Pomander Road\, Paget\, Bermuda\, 2 Pomander Road\, Paget\, Bermuda
END:VEVENT
BEGIN:VEVENT
DTSTART;TZID=Atlantic/Bermuda:20210212T100000
DTEND;TZID=Atlantic/Bermuda:20210212T120000
DTSTAMP:20260419T235941
CREATED:20200929T151629Z
LAST-MODIFIED:20210201T202641Z
UID:4224-1613124000-1613131200@gardenclubbermuda.org
SUMMARY:General Meeting via Zoom
DESCRIPTION:
URL:https://gardenclubbermuda.org/event/general-meeting-29/
LOCATION:TBA\, Bermuda
END:VEVENT
BEGIN:VEVENT
DTSTART;TZID=Atlantic/Bermuda:20210203T093000
DTEND;TZID=Atlantic/Bermuda:20210203T113000
DTSTAMP:20260419T235941
CREATED:20200929T151442Z
LAST-MODIFIED:20210201T202604Z
UID:4220-1612344600-1612351800@gardenclubbermuda.org
SUMMARY:Executive Meeting via Zoom
DESCRIPTION:
URL:https://gardenclubbermuda.org/event/executive-meeting-23/
LOCATION:TBA\, Bermuda
END:VEVENT
BEGIN:VEVENT
DTSTART;TZID=Atlantic/Bermuda:20210115T100000
DTEND;TZID=Atlantic/Bermuda:20210115T120000
DTSTAMP:20260419T235941
CREATED:20200929T151349Z
LAST-MODIFIED:20200929T151349Z
UID:4218-1610704800-1610712000@gardenclubbermuda.org
SUMMARY:General Meeting
DESCRIPTION:
URL:https://gardenclubbermuda.org/event/general-meeting-28/
LOCATION:TBA\, Bermuda
END:VEVENT
BEGIN:VEVENT
DTSTART;TZID=Atlantic/Bermuda:20210109T100000
DTEND;TZID=Atlantic/Bermuda:20210109T120000
DTSTAMP:20260419T235941
CREATED:20200929T151256Z
LAST-MODIFIED:20200929T151256Z
UID:4216-1610186400-1610193600@gardenclubbermuda.org
SUMMARY:Floral Art Workshop
DESCRIPTION:
URL:https://gardenclubbermuda.org/event/floral-art-workshop-19/
LOCATION:TBA\, Bermuda
END:VEVENT
END:VCALENDAR