BEGIN:VCALENDAR
VERSION:2.0
PRODID:-//The Garden Club of Bermuda - ECPv6.15.18//NONSGML v1.0//EN
CALSCALE:GREGORIAN
METHOD:PUBLISH
X-WR-CALNAME:The Garden Club of Bermuda
X-ORIGINAL-URL:https://gardenclubbermuda.org
X-WR-CALDESC:Events for The Garden Club of Bermuda
REFRESH-INTERVAL;VALUE=DURATION:PT1H
X-Robots-Tag:noindex
X-PUBLISHED-TTL:PT1H
BEGIN:VTIMEZONE
TZID:Atlantic/Bermuda
BEGIN:DAYLIGHT
TZOFFSETFROM:-0400
TZOFFSETTO:-0300
TZNAME:ADT
DTSTART:20190310T060000
END:DAYLIGHT
BEGIN:STANDARD
TZOFFSETFROM:-0300
TZOFFSETTO:-0400
TZNAME:AST
DTSTART:20191103T050000
END:STANDARD
BEGIN:DAYLIGHT
TZOFFSETFROM:-0400
TZOFFSETTO:-0300
TZNAME:ADT
DTSTART:20200308T060000
END:DAYLIGHT
BEGIN:STANDARD
TZOFFSETFROM:-0300
TZOFFSETTO:-0400
TZNAME:AST
DTSTART:20201101T050000
END:STANDARD
BEGIN:DAYLIGHT
TZOFFSETFROM:-0400
TZOFFSETTO:-0300
TZNAME:ADT
DTSTART:20210314T060000
END:DAYLIGHT
BEGIN:STANDARD
TZOFFSETFROM:-0300
TZOFFSETTO:-0400
TZNAME:AST
DTSTART:20211107T050000
END:STANDARD
BEGIN:DAYLIGHT
TZOFFSETFROM:-0400
TZOFFSETTO:-0300
TZNAME:ADT
DTSTART:20220313T060000
END:DAYLIGHT
BEGIN:STANDARD
TZOFFSETFROM:-0300
TZOFFSETTO:-0400
TZNAME:AST
DTSTART:20221106T050000
END:STANDARD
END:VTIMEZONE
BEGIN:VEVENT
DTSTART;TZID=Atlantic/Bermuda:20210213T083000
DTEND;TZID=Atlantic/Bermuda:20210213T120000
DTSTAMP:20260419T132112
CREATED:20210203T151222Z
LAST-MODIFIED:20210203T151239Z
UID:4867-1613205000-1613217600@gardenclubbermuda.org
SUMMARY:Bermuda National Trust Plant and Bake Sale
DESCRIPTION:Bermuda National Trust Plant and Bake Sale  https://bnt.bm/events/events-list/211-plant-bake-sale-2021
URL:https://gardenclubbermuda.org/event/bermuda-national-trust-plant-and-bake-sale-2/
LOCATION:Waterville\, 2 Pomander Road\, Paget\, Bermuda\, 2 Pomander Road\, Paget\, Bermuda
END:VEVENT
BEGIN:VEVENT
DTSTART;TZID=Atlantic/Bermuda:20210212T100000
DTEND;TZID=Atlantic/Bermuda:20210212T120000
DTSTAMP:20260419T132112
CREATED:20200929T151629Z
LAST-MODIFIED:20210201T202641Z
UID:4224-1613124000-1613131200@gardenclubbermuda.org
SUMMARY:General Meeting via Zoom
DESCRIPTION:
URL:https://gardenclubbermuda.org/event/general-meeting-29/
LOCATION:TBA\, Bermuda
END:VEVENT
BEGIN:VEVENT
DTSTART;TZID=Atlantic/Bermuda:20210203T093000
DTEND;TZID=Atlantic/Bermuda:20210203T113000
DTSTAMP:20260419T132112
CREATED:20200929T151442Z
LAST-MODIFIED:20210201T202604Z
UID:4220-1612344600-1612351800@gardenclubbermuda.org
SUMMARY:Executive Meeting via Zoom
DESCRIPTION:
URL:https://gardenclubbermuda.org/event/executive-meeting-23/
LOCATION:TBA\, Bermuda
END:VEVENT
BEGIN:VEVENT
DTSTART;TZID=Atlantic/Bermuda:20210115T100000
DTEND;TZID=Atlantic/Bermuda:20210115T120000
DTSTAMP:20260419T132112
CREATED:20200929T151349Z
LAST-MODIFIED:20200929T151349Z
UID:4218-1610704800-1610712000@gardenclubbermuda.org
SUMMARY:General Meeting
DESCRIPTION:
URL:https://gardenclubbermuda.org/event/general-meeting-28/
LOCATION:TBA\, Bermuda
END:VEVENT
BEGIN:VEVENT
DTSTART;TZID=Atlantic/Bermuda:20210109T100000
DTEND;TZID=Atlantic/Bermuda:20210109T120000
DTSTAMP:20260419T132112
CREATED:20200929T151256Z
LAST-MODIFIED:20200929T151256Z
UID:4216-1610186400-1610193600@gardenclubbermuda.org
SUMMARY:Floral Art Workshop
DESCRIPTION:
URL:https://gardenclubbermuda.org/event/floral-art-workshop-19/
LOCATION:TBA\, Bermuda
END:VEVENT
BEGIN:VEVENT
DTSTART;TZID=Atlantic/Bermuda:20210106T093000
DTEND;TZID=Atlantic/Bermuda:20210106T113000
DTSTAMP:20260419T132112
CREATED:20200929T151216Z
LAST-MODIFIED:20201202T180533Z
UID:4214-1609925400-1609932600@gardenclubbermuda.org
SUMMARY:Executive Meeting
DESCRIPTION:Venue TBD Zoom/Horticultural Hall
URL:https://gardenclubbermuda.org/event/executive-meeting-22/
LOCATION:TBA\, Bermuda
END:VEVENT
BEGIN:VEVENT
DTSTART;TZID=Atlantic/Bermuda:20201211T100000
DTEND;TZID=Atlantic/Bermuda:20201211T123000
DTSTAMP:20260419T132112
CREATED:20200929T151022Z
LAST-MODIFIED:20201202T180445Z
UID:4212-1607680800-1607689800@gardenclubbermuda.org
SUMMARY:General Meeting
DESCRIPTION:Via Zoom.  Live or Zoom viewing of benches and shop to follow at 11.30am-12.30pm at Horticultural Hall.  Correctly fitted masks and social distancing will be required for all viewing at Hort Hall.
URL:https://gardenclubbermuda.org/event/general-meeting-27/
LOCATION:TBA\, Bermuda
END:VEVENT
BEGIN:VEVENT
DTSTART;TZID=Atlantic/Bermuda:20201205T080000
DTEND;TZID=Atlantic/Bermuda:20201205T120000
DTSTAMP:20260419T132112
CREATED:20201107T142221Z
LAST-MODIFIED:20201202T180117Z
UID:4627-1607155200-1607169600@gardenclubbermuda.org
SUMMARY:Christmas Crafts from a Bermuda Garden
DESCRIPTION:Christmas Crafts from a Bermuda Garden – come and see what our busy Garden Club elves have been making\, and get your Bermuda made Christmas decorations/gifts!  There will also be a small plant sale and our shop\, normally only open to Garden Club members\, will be open for the Bermuda public.  Please note correctly fitted masks will be required by law (a fineable offence)\, and social distancing should be observed.  Hand sanitizers will be available.
URL:https://gardenclubbermuda.org/event/christmas-crafts-from-a-bermuda-garden/
LOCATION:TBA\, Bermuda
END:VEVENT
BEGIN:VEVENT
DTSTART;TZID=Atlantic/Bermuda:20201202T093000
DTEND;TZID=Atlantic/Bermuda:20201202T113000
DTSTAMP:20260419T132112
CREATED:20200929T150849Z
LAST-MODIFIED:20200929T150849Z
UID:4208-1606901400-1606908600@gardenclubbermuda.org
SUMMARY:Executive Meeting
DESCRIPTION:
URL:https://gardenclubbermuda.org/event/executive-meeting-21/
LOCATION:TBA\, Bermuda
END:VEVENT
BEGIN:VEVENT
DTSTART;TZID=Atlantic/Bermuda:20201128T100000
DTEND;TZID=Atlantic/Bermuda:20201128T120000
DTSTAMP:20260419T132112
CREATED:20201105T133617Z
LAST-MODIFIED:20201105T133617Z
UID:4617-1606557600-1606564800@gardenclubbermuda.org
SUMMARY:Floral Arts Workshop
DESCRIPTION:
URL:https://gardenclubbermuda.org/event/floral-arts-workshop-3/
LOCATION:TBA\, Bermuda
END:VEVENT
BEGIN:VEVENT
DTSTART;TZID=Atlantic/Bermuda:20201127T100000
DTEND;TZID=Atlantic/Bermuda:20201127T120000
DTSTAMP:20260419T132112
CREATED:20201105T133521Z
LAST-MODIFIED:20201110T162019Z
UID:4615-1606471200-1606478400@gardenclubbermuda.org
SUMMARY:Tree Tales - Talk and Tour
DESCRIPTION:Talk and Tour with Jennifer Flood – details/sign up sent to members via email.  Participants please wear a mask and social distance where possible.
URL:https://gardenclubbermuda.org/event/tree-tales-talk-and-tour/
LOCATION:Bermuda Botanical Gardens\, Point Finger Road\, Paget\, Bermuda
END:VEVENT
BEGIN:VEVENT
DTSTART;TZID=Atlantic/Bermuda:20201124T130000
DTEND;TZID=Atlantic/Bermuda:20201124T150000
DTSTAMP:20260419T132112
CREATED:20200928T144254Z
LAST-MODIFIED:20200928T144254Z
UID:4166-1606222800-1606230000@gardenclubbermuda.org
SUMMARY:Floral Art Crafts Workshop
DESCRIPTION:Workshop will be held every Tuesday until end November.  Members welcomed to this fun event.  Please sign up using link given to members via email.  Limited numbers.  Social distancing and masks enforced.
URL:https://gardenclubbermuda.org/event/floral-art-crafts-workshop-4/
LOCATION:TBA\, Bermuda
END:VEVENT
BEGIN:VEVENT
DTSTART;TZID=Atlantic/Bermuda:20201121T130000
DTEND;TZID=Atlantic/Bermuda:20201121T150000
DTSTAMP:20260419T132112
CREATED:20201105T133406Z
LAST-MODIFIED:20201110T161851Z
UID:4613-1605963600-1605970800@gardenclubbermuda.org
SUMMARY:Tom Wadson Talk and Farm Tour
DESCRIPTION:Details/sign up will be sent to members via email.  Participants please wear masks and social distance where possible.
URL:https://gardenclubbermuda.org/event/tom-wadson-talk-and-farm-tour/
END:VEVENT
BEGIN:VEVENT
DTSTART;TZID=Atlantic/Bermuda:20201117T130000
DTEND;TZID=Atlantic/Bermuda:20201117T150000
DTSTAMP:20260419T132112
CREATED:20200928T144212Z
LAST-MODIFIED:20200928T144212Z
UID:4164-1605618000-1605625200@gardenclubbermuda.org
SUMMARY:Floral Art Crafts Workshop
DESCRIPTION:Workshop will be held every Tuesday until end November.  Members welcomed to this fun event.  Please sign up using link given to members via email.  Limited numbers.  Social distancing and masks enforced.
URL:https://gardenclubbermuda.org/event/floral-art-crafts-workshop-3/
LOCATION:TBA\, Bermuda
END:VEVENT
BEGIN:VEVENT
DTSTART;TZID=Atlantic/Bermuda:20201113T100000
DTEND;TZID=Atlantic/Bermuda:20201113T123000
DTSTAMP:20260419T132112
CREATED:20200929T150802Z
LAST-MODIFIED:20201105T133800Z
UID:4206-1605261600-1605270600@gardenclubbermuda.org
SUMMARY:General Meeting
DESCRIPTION:Via Zoom.  Benches and Shop available for members from 11.30am to 12.30pm.
URL:https://gardenclubbermuda.org/event/general-meeting-26/
LOCATION:TBA\, Bermuda
END:VEVENT
BEGIN:VEVENT
DTSTART;TZID=Atlantic/Bermuda:20201110T130000
DTEND;TZID=Atlantic/Bermuda:20201110T150000
DTSTAMP:20260419T132112
CREATED:20200928T144126Z
LAST-MODIFIED:20200928T144126Z
UID:4162-1605013200-1605020400@gardenclubbermuda.org
SUMMARY:Floral Art Crafts Workshop
DESCRIPTION:Workshop will be held every Tuesday until end November.  Members welcomed to this fun event.  Please sign up using link given to members via email.  Limited numbers.  Social distancing and masks enforced.
URL:https://gardenclubbermuda.org/event/floral-art-crafts-workshop-2/
LOCATION:TBA\, Bermuda
END:VEVENT
BEGIN:VEVENT
DTSTART;TZID=Atlantic/Bermuda:20201107T100000
DTEND;TZID=Atlantic/Bermuda:20201107T120000
DTSTAMP:20260419T132112
CREATED:20200928T153333Z
LAST-MODIFIED:20200928T153333Z
UID:4180-1604743200-1604750400@gardenclubbermuda.org
SUMMARY:Floral Arts Workshop
DESCRIPTION:
URL:https://gardenclubbermuda.org/event/floral-arts-workshop-2/
LOCATION:TBA\, Bermuda
END:VEVENT
BEGIN:VEVENT
DTSTART;TZID=Atlantic/Bermuda:20201106T100000
DTEND;TZID=Atlantic/Bermuda:20201106T120000
DTSTAMP:20260419T132112
CREATED:20201105T132948Z
LAST-MODIFIED:20201105T133154Z
UID:4611-1604656800-1604664000@gardenclubbermuda.org
SUMMARY:Propagation Workshop
DESCRIPTION:Details sent to members via email
URL:https://gardenclubbermuda.org/event/propagation-workshop/
END:VEVENT
BEGIN:VEVENT
DTSTART;TZID=Atlantic/Bermuda:20201104T093000
DTEND;TZID=Atlantic/Bermuda:20201104T113000
DTSTAMP:20260419T132112
CREATED:20200928T153204Z
LAST-MODIFIED:20200928T174844Z
UID:4178-1604482200-1604489400@gardenclubbermuda.org
SUMMARY:Executive Meeting
DESCRIPTION:Venue/ZOOM tba
URL:https://gardenclubbermuda.org/event/executive-meeting-18/
END:VEVENT
BEGIN:VEVENT
DTSTART;TZID=Atlantic/Bermuda:20201103T130000
DTEND;TZID=Atlantic/Bermuda:20201103T150000
DTSTAMP:20260419T132112
CREATED:20200928T144033Z
LAST-MODIFIED:20200928T144033Z
UID:4160-1604408400-1604415600@gardenclubbermuda.org
SUMMARY:Floral Art Craft Workshop
DESCRIPTION:Workshop will be held every Tuesday until end November.  Members welcomed to this fun event.  Please sign up using link given to members via email.  Limited numbers.  Social distancing and masks enforced.
URL:https://gardenclubbermuda.org/event/floral-art-craft-workshop-3/
LOCATION:TBA\, Bermuda
END:VEVENT
BEGIN:VEVENT
DTSTART;TZID=Atlantic/Bermuda:20201030T100000
DTEND;TZID=Atlantic/Bermuda:20201030T120000
DTSTAMP:20260419T132112
CREATED:20201015T151215Z
LAST-MODIFIED:20201015T151215Z
UID:4377-1604052000-1604059200@gardenclubbermuda.org
SUMMARY:Horticultural Workshop
DESCRIPTION:Propagation – Email with location and sign up details will be sent to members.
URL:https://gardenclubbermuda.org/event/horticultural-workshop-3/
END:VEVENT
BEGIN:VEVENT
DTSTART;TZID=Atlantic/Bermuda:20201027T130000
DTEND;TZID=Atlantic/Bermuda:20201027T150000
DTSTAMP:20260419T132112
CREATED:20200928T143934Z
LAST-MODIFIED:20200928T143934Z
UID:4158-1603803600-1603810800@gardenclubbermuda.org
SUMMARY:Floral Art Craft Workshop
DESCRIPTION:Workshop will be held every Tuesday until end November.  Members welcomed to this fun event.  Please sign up using link given to members via email.  Limited numbers.  Social distancing and masks enforced.
URL:https://gardenclubbermuda.org/event/floral-art-craft-workshop-2/
LOCATION:TBA\, Bermuda
END:VEVENT
BEGIN:VEVENT
DTSTART;TZID=Atlantic/Bermuda:20201024T100000
DTEND;TZID=Atlantic/Bermuda:20201024T120000
DTSTAMP:20260419T132112
CREATED:20200928T145904Z
LAST-MODIFIED:20201015T152717Z
UID:4174-1603533600-1603540800@gardenclubbermuda.org
SUMMARY:Horticultural Workshop
DESCRIPTION:Email with location\, time and sign up details will be sent to members.
URL:https://gardenclubbermuda.org/event/horticultural-workshop/
END:VEVENT
BEGIN:VEVENT
DTSTART;TZID=Atlantic/Bermuda:20201024T080000
DTEND;TZID=Atlantic/Bermuda:20201024T170000
DTSTAMP:20260419T132112
CREATED:20201015T151952Z
LAST-MODIFIED:20201015T151952Z
UID:4379-1603526400-1603558800@gardenclubbermuda.org
SUMMARY:33rd Annual AXA End to End Walk
DESCRIPTION:The End to End Walk this year will donate funds to the Garden Club’s Skills Development Programme.
URL:https://gardenclubbermuda.org/event/33rd-annual-axa-end-to-end-walk/
END:VEVENT
BEGIN:VEVENT
DTSTART;TZID=Atlantic/Bermuda:20201023T100000
DTEND;TZID=Atlantic/Bermuda:20201023T120000
DTSTAMP:20260419T132112
CREATED:20201015T151112Z
LAST-MODIFIED:20201015T151112Z
UID:4375-1603447200-1603454400@gardenclubbermuda.org
SUMMARY:Horticultural Workshop
DESCRIPTION:Horticultural Workshop – Propagation – Email with location and sign up details will be sent to members.
URL:https://gardenclubbermuda.org/event/horticultural-workshop-2/
END:VEVENT
BEGIN:VEVENT
DTSTART;TZID=Atlantic/Bermuda:20201020T100000
DTEND;TZID=Atlantic/Bermuda:20201020T120000
DTSTAMP:20260419T132112
CREATED:20200928T143817Z
LAST-MODIFIED:20201015T152156Z
UID:4156-1603188000-1603195200@gardenclubbermuda.org
SUMMARY:Floral Art Craft Workshop
DESCRIPTION:Workshop will be held every Tuesday until end November.  Members welcomed to this fun event.  Please sign up using link given to members via email.  Limited numbers.  Social distancing and masks enforced.
URL:https://gardenclubbermuda.org/event/floral-art-craft-workshop/
LOCATION:TBA\, Bermuda
END:VEVENT
BEGIN:VEVENT
DTSTART;TZID=Atlantic/Bermuda:20201017T090000
DTEND;TZID=Atlantic/Bermuda:20201017T120000
DTSTAMP:20260419T132112
CREATED:20200928T152853Z
LAST-MODIFIED:20200928T152853Z
UID:4176-1602925200-1602936000@gardenclubbermuda.org
SUMMARY:KBB Coastal Cleanup
DESCRIPTION:KBB Islandwide Coastal Cleanup\, rain date Oct 18th.  See website for details.
URL:https://gardenclubbermuda.org/event/kbb-coastal-cleanup/
END:VEVENT
BEGIN:VEVENT
DTSTART;TZID=Atlantic/Bermuda:20201009T100000
DTEND;TZID=Atlantic/Bermuda:20201009T140000
DTSTAMP:20260419T132112
CREATED:20200928T144828Z
LAST-MODIFIED:20200928T144828Z
UID:4170-1602237600-1602252000@gardenclubbermuda.org
SUMMARY:General Meeting
DESCRIPTION:Due to COVID-19 pandemic meeting will be held via ZOOM 10am – 12 noon\, thereafter benches will be on display from 12noon to 2pm for viewing\, with social distancing and masks required.  ZOOM link will be sent to members via email.
URL:https://gardenclubbermuda.org/event/general-meeting-24/
LOCATION:TBA\, Bermuda
END:VEVENT
BEGIN:VEVENT
DTSTART;TZID=Atlantic/Bermuda:20201006T130000
DTEND;TZID=Atlantic/Bermuda:20201006T150000
DTSTAMP:20260419T132112
CREATED:20200928T143441Z
LAST-MODIFIED:20200928T143619Z
UID:4152-1601989200-1601996400@gardenclubbermuda.org
SUMMARY:Floral Arts Craft Workshop
DESCRIPTION:Workshop will be held every Tuesday until end November.  Members welcomed to this fun event.  Please sign up using link given to members via email.  Limited numbers.  Social distancing and masks enforced.
URL:https://gardenclubbermuda.org/event/floral-arts-craft-workshop-2/
LOCATION:TBA\, Bermuda
END:VEVENT
BEGIN:VEVENT
DTSTART;TZID=Atlantic/Bermuda:20201003T100000
DTEND;TZID=Atlantic/Bermuda:20201003T120000
DTSTAMP:20260419T132112
CREATED:20200928T144349Z
LAST-MODIFIED:20200928T144349Z
UID:4168-1601719200-1601726400@gardenclubbermuda.org
SUMMARY:Floral Arts Workshop
DESCRIPTION:
URL:https://gardenclubbermuda.org/event/floral-arts-workshop/
LOCATION:TBA\, Bermuda
END:VEVENT
END:VCALENDAR