BEGIN:VCALENDAR
VERSION:2.0
PRODID:-//The Garden Club of Bermuda - ECPv6.15.18//NONSGML v1.0//EN
CALSCALE:GREGORIAN
METHOD:PUBLISH
X-WR-CALNAME:The Garden Club of Bermuda
X-ORIGINAL-URL:https://gardenclubbermuda.org
X-WR-CALDESC:Events for The Garden Club of Bermuda
REFRESH-INTERVAL;VALUE=DURATION:PT1H
X-Robots-Tag:noindex
X-PUBLISHED-TTL:PT1H
BEGIN:VTIMEZONE
TZID:Atlantic/Bermuda
BEGIN:DAYLIGHT
TZOFFSETFROM:-0400
TZOFFSETTO:-0300
TZNAME:ADT
DTSTART:20190310T060000
END:DAYLIGHT
BEGIN:STANDARD
TZOFFSETFROM:-0300
TZOFFSETTO:-0400
TZNAME:AST
DTSTART:20191103T050000
END:STANDARD
BEGIN:DAYLIGHT
TZOFFSETFROM:-0400
TZOFFSETTO:-0300
TZNAME:ADT
DTSTART:20200308T060000
END:DAYLIGHT
BEGIN:STANDARD
TZOFFSETFROM:-0300
TZOFFSETTO:-0400
TZNAME:AST
DTSTART:20201101T050000
END:STANDARD
BEGIN:DAYLIGHT
TZOFFSETFROM:-0400
TZOFFSETTO:-0300
TZNAME:ADT
DTSTART:20210314T060000
END:DAYLIGHT
BEGIN:STANDARD
TZOFFSETFROM:-0300
TZOFFSETTO:-0400
TZNAME:AST
DTSTART:20211107T050000
END:STANDARD
END:VTIMEZONE
BEGIN:VEVENT
DTSTART;TZID=Atlantic/Bermuda:20200828T113000
DTEND;TZID=Atlantic/Bermuda:20200828T123000
DTSTAMP:20260424T234323
CREATED:20200929T154052Z
LAST-MODIFIED:20200929T154052Z
UID:4245-1598614200-1598617800@gardenclubbermuda.org
SUMMARY:Annual General Meeting
DESCRIPTION:Via Youtube video due to COVID-19 pandemic
URL:https://gardenclubbermuda.org/event/annual-general-meeting/
END:VEVENT
END:VCALENDAR