BEGIN:VCALENDAR
VERSION:2.0
PRODID:-//The Garden Club of Bermuda - ECPv6.15.18//NONSGML v1.0//EN
CALSCALE:GREGORIAN
METHOD:PUBLISH
X-WR-CALNAME:The Garden Club of Bermuda
X-ORIGINAL-URL:https://gardenclubbermuda.org
X-WR-CALDESC:Events for The Garden Club of Bermuda
REFRESH-INTERVAL;VALUE=DURATION:PT1H
X-Robots-Tag:noindex
X-PUBLISHED-TTL:PT1H
BEGIN:VTIMEZONE
TZID:UTC
BEGIN:STANDARD
TZOFFSETFROM:+0000
TZOFFSETTO:+0000
TZNAME:UTC
DTSTART:20190101T000000
END:STANDARD
END:VTIMEZONE
BEGIN:VEVENT
DTSTART;TZID=UTC:20200214T100000
DTEND;TZID=UTC:20200214T120000
DTSTAMP:20260424T162041
CREATED:20190807T044004Z
LAST-MODIFIED:20190807T044004Z
UID:2084-1581674400-1581681600@gardenclubbermuda.org
SUMMARY:General Meeting - Paul Zammit (Toronto)
DESCRIPTION:Garden Club General Meeting – all members and their guests welcome – Valentine’s Day!  Paul Zammit\, Director of Horticulture at the Toronto Botanical Gardens will be our speaker.
URL:https://gardenclubbermuda.org/event/general-meeting-20/
LOCATION:TBA\, Bermuda
END:VEVENT
END:VCALENDAR