BEGIN:VCALENDAR
VERSION:2.0
PRODID:-//The Garden Club of Bermuda - ECPv6.15.18//NONSGML v1.0//EN
CALSCALE:GREGORIAN
METHOD:PUBLISH
X-WR-CALNAME:The Garden Club of Bermuda
X-ORIGINAL-URL:https://gardenclubbermuda.org
X-WR-CALDESC:Events for The Garden Club of Bermuda
REFRESH-INTERVAL;VALUE=DURATION:PT1H
X-Robots-Tag:noindex
X-PUBLISHED-TTL:PT1H
BEGIN:VTIMEZONE
TZID:UTC
BEGIN:STANDARD
TZOFFSETFROM:+0000
TZOFFSETTO:+0000
TZNAME:UTC
DTSTART:20190101T000000
END:STANDARD
END:VTIMEZONE
BEGIN:VEVENT
DTSTART;TZID=UTC:20200106T093000
DTEND;TZID=UTC:20200106T113000
DTSTAMP:20260424T175131
CREATED:20190811T040959Z
LAST-MODIFIED:20190811T040959Z
UID:2101-1578303000-1578310200@gardenclubbermuda.org
SUMMARY:Executive Meeting
DESCRIPTION:Executive Meeting – please note January meeting on Monday Jan 6th due to public holiday on Jan 1st
URL:https://gardenclubbermuda.org/event/executive-meeting-13/
LOCATION:TBA\, Bermuda
END:VEVENT
END:VCALENDAR