BEGIN:VCALENDAR
VERSION:2.0
PRODID:-//The Garden Club of Bermuda - ECPv6.15.18//NONSGML v1.0//EN
CALSCALE:GREGORIAN
METHOD:PUBLISH
X-WR-CALNAME:The Garden Club of Bermuda
X-ORIGINAL-URL:https://gardenclubbermuda.org
X-WR-CALDESC:Events for The Garden Club of Bermuda
REFRESH-INTERVAL;VALUE=DURATION:PT1H
X-Robots-Tag:noindex
X-PUBLISHED-TTL:PT1H
BEGIN:VTIMEZONE
TZID:UTC
BEGIN:STANDARD
TZOFFSETFROM:+0000
TZOFFSETTO:+0000
TZNAME:UTC
DTSTART:20180101T000000
END:STANDARD
END:VTIMEZONE
BEGIN:VEVENT
DTSTART;TZID=UTC:20191030T093000
DTEND;TZID=UTC:20191030T113000
DTSTAMP:20260424T221416
CREATED:20190811T040607Z
LAST-MODIFIED:20190811T040607Z
UID:2097-1572427800-1572435000@gardenclubbermuda.org
SUMMARY:Executive Meeting
DESCRIPTION:Executive Meeting
URL:https://gardenclubbermuda.org/event/executive-meeting-11/
LOCATION:TBA\, Bermuda
END:VEVENT
END:VCALENDAR